BEGIN:VCALENDAR
VERSION:2.0
PRODID:-//Michigan Humanities - ECPv6.15.20//NONSGML v1.0//EN
CALSCALE:GREGORIAN
METHOD:PUBLISH
X-WR-CALNAME:Michigan Humanities
X-ORIGINAL-URL:https://www.michiganhumanities.org
X-WR-CALDESC:Events for Michigan Humanities
REFRESH-INTERVAL;VALUE=DURATION:PT1H
X-Robots-Tag:noindex
X-PUBLISHED-TTL:PT1H
BEGIN:VTIMEZONE
TZID:America/Detroit
BEGIN:DAYLIGHT
TZOFFSETFROM:-0500
TZOFFSETTO:-0400
TZNAME:EDT
DTSTART:20240310T070000
END:DAYLIGHT
BEGIN:STANDARD
TZOFFSETFROM:-0400
TZOFFSETTO:-0500
TZNAME:EST
DTSTART:20241103T060000
END:STANDARD
BEGIN:DAYLIGHT
TZOFFSETFROM:-0500
TZOFFSETTO:-0400
TZNAME:EDT
DTSTART:20250309T070000
END:DAYLIGHT
BEGIN:STANDARD
TZOFFSETFROM:-0400
TZOFFSETTO:-0500
TZNAME:EST
DTSTART:20251102T060000
END:STANDARD
BEGIN:DAYLIGHT
TZOFFSETFROM:-0500
TZOFFSETTO:-0400
TZNAME:EDT
DTSTART:20260308T070000
END:DAYLIGHT
BEGIN:STANDARD
TZOFFSETFROM:-0400
TZOFFSETTO:-0500
TZNAME:EST
DTSTART:20261101T060000
END:STANDARD
END:VTIMEZONE
BEGIN:VEVENT
DTSTART;TZID=America/Detroit:20250618T100000
DTEND;TZID=America/Detroit:20250730T110000
DTSTAMP:20260420T001636
CREATED:20250605T144117Z
LAST-MODIFIED:20250605T144117Z
UID:244305-1750240800-1753873200@www.michiganhumanities.org
SUMMARY:Brighton Arts & Culture Commission Presents: Children's Summer Series
DESCRIPTION:The Children’s Summer Series\, presented by the Brighton Arts & Culture Commission\, is a free\, family-friendly event series that brings music\, magic\, theater\, and more to our outdoor amphitheater in downtown Brighton. Held on Wednesdays at 10 am\, starting June 18 and running through July 30\, this engaging series features a diverse lineup of talented performers who entertain and inspire young audiences with interactive\, high-energy shows. From live music and storytelling to dance and circus arts\, each event is designed to spark creativity\, laughter\, and fun for kids and families. \nThis event is partially funded by an Arts and Humanities Touring Grant.
URL:https://www.michiganhumanities.org/event/brighton-arts-culture-commission-presents-childrens-summer-series/
LOCATION:The Amp!\, 202 N. Main St.\, Brighton\, MI\, 48116\, United States
ATTACH;FMTTYPE=image/jpeg:https://www.michiganhumanities.org/wp-content/uploads/Brighton-Arts-and-Culture.jpg
END:VEVENT
BEGIN:VEVENT
DTSTART;TZID=America/Detroit:20250705T140000
DTEND;TZID=America/Detroit:20250705T230000
DTSTAMP:20260420T001636
CREATED:20250610T151940Z
LAST-MODIFIED:20250610T151940Z
UID:244379-1751724000-1751756400@www.michiganhumanities.org
SUMMARY:13th Annual Ragtime Extravaganza
DESCRIPTION:River Raisin Ragtime Revue is presenting our 13th annual Ragtime Extravaganza\, a community event that brings together local\, regional\, and national talent. The Extravaganza is presented free on the Adrian PlaneWave Instruments arts and science campus. This year’s Extravaganza is part of the Adrian Bicentennial Celebration. The day-long event features live music\, a children’s magic show\, art vendors and exhibitors\, an instrument petting zoo\, historical exhibits\, a vintage car show\, science tours\, children’s games\, food vendors\, and a grand finale fireworks display. Jerron Paxton\, a Smithsonian Folkways artist from New York City\, will perform both a solo set and join the River Raisin Ragtime Revue orchestra. The City of Adrian will provide free shuttle service running all day from downtown Adrian to the PlaneWave campus. \nThis event is partially funded by an Arts and Humanities Touring Grant.
URL:https://www.michiganhumanities.org/event/13th-annual-ragtime-extravaganza/
LOCATION:PlaneWave Instruments\, 1375 N Main St\, Adrian\, MI\, 49221\, United States
ATTACH;FMTTYPE=image/webp:https://www.michiganhumanities.org/wp-content/uploads/river-raisin.webp
END:VEVENT
BEGIN:VEVENT
DTSTART;TZID=America/Detroit:20250708T183000
DTEND;TZID=America/Detroit:20250708T203000
DTSTAMP:20260420T001636
CREATED:20250610T152958Z
LAST-MODIFIED:20250610T152958Z
UID:244383-1751999400-1752006600@www.michiganhumanities.org
SUMMARY:Caribbean Colors
DESCRIPTION:Caribbean Steel Drums through Dynamic School Assemblies are playing Caribbean style music with their steel drums for the Hazel Park District Library on Tuesday\, July 8 at 6:30pm. This is an amazing program that will send the audience on a musical celebration of adventure through the islands. This interactive concert combines the experience of singing\, drumming\, dancing\, and excitement as offered by African and Caribbean contributions to the world of music. This program is educational\, musical\, diverse\, and interactive for all age levels and audiences. \nThis event is partially funded by an Arts and Humanities Grant.
URL:https://www.michiganhumanities.org/event/caribbean-colors/
LOCATION:Hazel Park District Library\, 123 E 9 Mile Rd\, Hazel Park\, 48030\, United States
END:VEVENT
BEGIN:VEVENT
DTSTART;TZID=America/Detroit:20250710T100000
DTEND;TZID=America/Detroit:20250710T230000
DTSTAMP:20260420T001636
CREATED:20250610T143132Z
LAST-MODIFIED:20250610T153937Z
UID:244349-1752141600-1752188400@www.michiganhumanities.org
SUMMARY:Kevin Kammeraad: Poetry\, Puppetry\, Music & More!
DESCRIPTION:Join us for an energetic\, family-friendly performance with author and artist Kevin Kammeraad! With puppets\, music\, poetry\, and audience interaction\, this show is packed with creativity and fun for all ages. \nThis event is partially funded by and Arts and Humanities Grant. \n 
URL:https://www.michiganhumanities.org/event/kevin-kammeraad-poetry-puppetry-music-more/
LOCATION:Portage Lake District Library\, 58 Huron St.\, Houghton\, MI\, 49931\, United States
ATTACH;FMTTYPE=image/jpeg:https://www.michiganhumanities.org/wp-content/uploads/kevin-kammeraad.jpg
END:VEVENT
BEGIN:VEVENT
DTSTART;TZID=America/Detroit:20250711T203000
DTEND;TZID=America/Detroit:20250711T220000
DTSTAMP:20260420T001636
CREATED:20250616T152929Z
LAST-MODIFIED:20250616T152929Z
UID:244406-1752265800-1752271200@www.michiganhumanities.org
SUMMARY:Candlelight Concert by Mert Sela
DESCRIPTION:Amazing date night opportunity at Sanilac Museum\, July 11th – Candlelight Concert featuring Mert Sela. Mert Sela is a musician from Turkey\, attended Kocaeli University and is now residing in St. Clair\, Michigan. His performance will augment the dimly lit Candlelight Concert to transcend into a magical evening experience. Mert Sela has been performing for decades and will take his experience to the stage to amaze those in attendance to appreciate classical and flamenco music. The event will be outdoors surrounded by a dozen historic buildings that are older than a century while under an amazing event tent with chairs and patio while being lit by a hundred candles for ambience.\n\nThis is a rain or shine event. We will pivot the venue into the Forestville Church at the museum in case of inclement weather. We respectfully state that NO REFUNDS will be offered for this event. Tickets are $10.\n\nThis event is partially funded by an Arts and Humanities Grant.
URL:https://www.michiganhumanities.org/event/candlelight-concert-by-mert-sela/
LOCATION:Sanilac County Historic Village & Museum\, 228 S. Ridge St.\, Port Sanilac\, MI\, 48469\, United States
ATTACH;FMTTYPE=image/jpeg:https://www.michiganhumanities.org/wp-content/uploads/mert-sela.jpg
END:VEVENT
BEGIN:VEVENT
DTSTART;TZID=America/Detroit:20250714T000000
DTEND;TZID=America/Detroit:20250720T000000
DTSTAMP:20260420T001636
CREATED:20250616T145352Z
LAST-MODIFIED:20250616T145913Z
UID:244394-1752451200-1752969600@www.michiganhumanities.org
SUMMARY:The Sound Garden Project: Fivemind Reeds
DESCRIPTION:The Cheboygan Area Arts Council is collaborating with Interlochen Public Radio’s 2025 Sound Garden Project to bring Fivemind Reeds to Cheboygan from July 14-19. The Sound Garden Project’s mission is to plant classical music in unexpected places as the featured musicians reimagine a 21st-century performance experience. In their ambitious hands\, a concert becomes an event\, and an audience becomes a community of inspiration\, understanding and hope. During their residency week\, Fivemind Reeds (a quintet of reed instruments) will perform a series of free\, public pop-up events in the Cheboygan area\, such as at the Farmers’ Markets\, the Art Fair\, in public parks and at downtown business locations. Each of these events will be short 30-45 minute appearances\, leading up to the final event.  All events are designed to be interactive with the community. \nTheir final concert event will take place on Saturday\, July 19\, 7:00pm at the historic Cheboygan Opera House. All events are free to the public and do not require reservations or tickets. The Sound Garden Project will be a unique opportunity to bring classical music out into our community and to break down the stereotypes of so-called elite music. We hope the experience will also inspire young people to consider studying an instrument\, either through private instruction or in their school’s music program. \nFivemind Reeds is a Los Angeles-based reed quintet with saxophonist Alexander Lee\, clarinetists Darren Liou and Kristine Llanderal\, bassoonist Matthew Rasmussen\, and oboist Thacher Schreiber. Formed in 2021 at UCLA’s Herb Alpert School of Music\, Fivemind has since performed in several concerts and recitals throughout Los Angeles and the United States. Most recently\, Fivemind was a two-time ensemble-in-residence for Interlochen Public Radio’s Sound Garden Project\, in other Northern Michigan communities. The quintet maintains a colorful and diverse repertoire\, from old masterworks by Mozart and Grieg to landmark contemporary works by composers such as David Biedenbender\, Marc Mellits\, and Jeff Scott. \nThis event is partially funded by an Arts and Humanities Grant.
URL:https://www.michiganhumanities.org/event/the-sound-garden-project-fivemind-reeds/
LOCATION:Cheboygan Opera House\, 403 N. Huron St\, Cheboygan\, MI\, 49721
ATTACH;FMTTYPE=image/webp:https://www.michiganhumanities.org/wp-content/uploads/fivemind-reeds.webp
END:VEVENT
BEGIN:VEVENT
DTSTART;TZID=America/Detroit:20250714T140000
DTEND;TZID=America/Detroit:20250714T144500
DTSTAMP:20260420T001636
CREATED:20250616T153654Z
LAST-MODIFIED:20250616T153654Z
UID:244409-1752501600-1752504300@www.michiganhumanities.org
SUMMARY:Cameron Zvara: Squeaky Clean Comedy Magician & Entertainer
DESCRIPTION:Join us for an afternoon of AMAZEMENT & FUN with Comedy Magician & Entertainer- Cameron Zvara! Cameron’s show is filled with mind blowing magic\, squeaky clean comedy\, and tons of audience participation. You do not want to miss out!  Location: Delta Center Elementary School Gym\, 305 S Canal Rd\, Lansing\, MI 48917.
URL:https://www.michiganhumanities.org/event/cameron-zvara-squeaky-clean-comedy-magician-entertainer/
LOCATION:Delta Center Elementary School Gym\, 305 S Canal Rd\, Lansing\, 48917
ATTACH;FMTTYPE=image/jpeg:https://www.michiganhumanities.org/wp-content/uploads/cameron.jpg
END:VEVENT
BEGIN:VEVENT
DTSTART;TZID=America/Detroit:20250716T100000
DTEND;TZID=America/Detroit:20250716T110000
DTSTAMP:20260420T001636
CREATED:20250610T143757Z
LAST-MODIFIED:20250610T143813Z
UID:244351-1752660000-1752663600@www.michiganhumanities.org
SUMMARY:Wimee Live! with Kevin Kammeraad
DESCRIPTION:Join master puppeteer Kevin Kammeraad\, along with Wimee & Friends\, as they take you on a whimsical\, musical\, and collaborative experience where innovative thinking and creative writing playfully unfold with ease. Based on their PBS TV show\, Wimee’s Words! Doors open to the public at 9:40 a.m. \nThis event is partially funded by and Arts and Humanities Grant.
URL:https://www.michiganhumanities.org/event/wimmee-live-with-kevin-kammeraad/
LOCATION:Forsyth Township Public Library\, 180 W. Flint St.\, Gwinn\, Michigan\, 49841
ATTACH;FMTTYPE=image/jpeg:https://www.michiganhumanities.org/wp-content/uploads/Wimmee-Gwinn-1.jpg
END:VEVENT
BEGIN:VEVENT
DTSTART;TZID=America/Detroit:20250716T140000
DTEND;TZID=America/Detroit:20250716T153000
DTSTAMP:20260420T001636
CREATED:20250616T160407Z
LAST-MODIFIED:20250616T160407Z
UID:244419-1752674400-1752679800@www.michiganhumanities.org
SUMMARY:Wimee Live! with Kevin Kammeraad
DESCRIPTION:Join master puppeteer Kevin\, along with Wimee and Friends\, as they take you on a whimsical\, musical\, and collaborative experience where innovative thinking and creative writing playfully unfold with ease. Based on their PBS TV show\, Wimee’s Words! \nThis event is partially funded by an Arts and Humanities Grant.
URL:https://www.michiganhumanities.org/event/wimee-live-with-kevin-kammeraad/
LOCATION:Ishpeming Carnegie Library\, 317 N Main St\, Ishpeming\, Michigan\, 49849
ATTACH;FMTTYPE=image/jpeg:https://www.michiganhumanities.org/wp-content/uploads/kevin-kammeraad-1.jpg
END:VEVENT
BEGIN:VEVENT
DTSTART;TZID=America/Detroit:20250717T150000
DTEND;TZID=America/Detroit:20250717T160000
DTSTAMP:20260420T001636
CREATED:20250616T161704Z
LAST-MODIFIED:20250616T161704Z
UID:244423-1752764400-1752768000@www.michiganhumanities.org
SUMMARY:Kevin Kammeraad & Friends
DESCRIPTION:Join master puppeteer Kevin\, along with Wimee and Friends\, as they take you on a whimsical\, musical\, and collaborative experience where innovative thinking and creative writing playfully unfold with ease. Based on their PBS TV show\, Wimee’s Words! \nThis event is partially funded by an Arts and Humanities Grant.
URL:https://www.michiganhumanities.org/event/kevin-kammeraad-friends/
LOCATION:Munising School Public Library\, 810 M-28\, Munising\, Michigan\, 49862
ATTACH;FMTTYPE=image/jpeg:https://www.michiganhumanities.org/wp-content/uploads/kevin-kammeraad-2.jpg
END:VEVENT
BEGIN:VEVENT
DTSTART;TZID=America/Detroit:20250718T160000
DTEND;TZID=America/Detroit:20250718T180000
DTSTAMP:20260420T001636
CREATED:20250707T190407Z
LAST-MODIFIED:20250707T190407Z
UID:244452-1752854400-1752861600@www.michiganhumanities.org
SUMMARY:Cuisine & Conversations Fundraiser
DESCRIPTION:Join Michigan Humanities for an evening of cuisine & conversation as story-makers Curtis Chin and Angela Chi talk about all things food\, culture\, family\, and Detroit. Enjoy cuisine designed and curated by Chef Angela Chi as she tells the story of her family and culture through unique dishes. \nAll proceeds from the evening will support Michigan Humanities in their ongoing work to bring people together through stories\, histories\, cultures\, and conversations. \nTickets are $100/person and include light fare. A cash bar will be available. Please register by Monday\, July 14. Purchase your tickets here. \nSchedule of Events \n4 p.m.\nEnjoy Detroit chef Angela Chi’s gourmet bites as you relax in the cafe or on the patio at BasBlue. \n5 p.m.\nBe part of the conversation with author and filmmaker Curtis Chin and chef Angela Chi in BasBlue’s library. Chin and Chi will talk about the many ways that family\, food traditions\, and Detroit have flavored their lives and creativity. Bring your questions and join us for an engaging couch conversation!
URL:https://www.michiganhumanities.org/event/cuisine-conversations-fundraiser/
LOCATION:BasBlue\, 110 East Ferry Street\, Detroit\, MI\, 48202
ATTACH;FMTTYPE=image/jpeg:https://www.michiganhumanities.org/wp-content/uploads/Cuisine-Conversations-Draft-3-6.jpg
END:VEVENT
BEGIN:VEVENT
DTSTART;TZID=America/Detroit:20250718T180000
DTEND;TZID=America/Detroit:20250718T190000
DTSTAMP:20260420T001636
CREATED:20250616T162243Z
LAST-MODIFIED:20250616T162243Z
UID:244427-1752861600-1752865200@www.michiganhumanities.org
SUMMARY:Wimee's Words Live at the Pickford Community Library
DESCRIPTION:Come and see Wimee’s Words Live! As seen on PBS! Master puppeteer Kevin Kammeraad will be here with Wimee! \nThis event is partially funded by an Arts and Humanities Grant.
URL:https://www.michiganhumanities.org/event/wimees-words-live-at-the-pickford-community-library/
LOCATION:The PIckford Community Library\, 137 E Main St\, Pickford\, Michigan\, 49774
ATTACH;FMTTYPE=image/jpeg:https://www.michiganhumanities.org/wp-content/uploads/wimees-words-pickford.jpg
END:VEVENT
BEGIN:VEVENT
DTSTART;TZID=America/Detroit:20250722T130000
DTEND;TZID=America/Detroit:20250722T140000
DTSTAMP:20260420T001636
CREATED:20250616T163207Z
LAST-MODIFIED:20250616T163207Z
UID:244431-1753189200-1753192800@www.michiganhumanities.org
SUMMARY:Musician Ben Traverse at St. Ignace Public Library - Sea Shanty Sing Along
DESCRIPTION:Bluegrass\, old time\, celtic\, and sea shanty lovers rejoice! Michigan folksinger and Earthwork Music artist Ben Traverse is coming to the library for a sea shanty singalong. This is an opportunity to connect with a centuries-old tradition of communal singing. \n✨Free All-Ages Show✨ \nThis event is partially funded by an Arts and Humanities Grant.
URL:https://www.michiganhumanities.org/event/musician-ben-traverse-at-st-ignace-public-library-sea-shanty-sing-along/
LOCATION:St. Ignace Public Library\, 110 W Spruce St\, St Ignace\, MI\, 49781
ATTACH;FMTTYPE=image/jpeg:https://www.michiganhumanities.org/wp-content/uploads/Ben-Traverse.jpg
END:VEVENT
BEGIN:VEVENT
DTSTART;TZID=America/Detroit:20250724T190000
DTEND;TZID=America/Detroit:20250724T203000
DTSTAMP:20260420T001636
CREATED:20250616T144408Z
LAST-MODIFIED:20250616T144408Z
UID:244390-1753383600-1753389000@www.michiganhumanities.org
SUMMARY:Music in the Park featuring the Jerry Ross Band
DESCRIPTION:Music in the Park welcomes Macomb Township residents and surrounding community members to enjoy a free night of music featuring metro Detroit’s most popular bands. In addition to the concert\, our Kidzone play-area will be in full swing with inflatables\, organized games\, toys and other equipment. The concert takes place on the main lawn at Macomb Corners Park. Concessions are available on site to purchase. Coolers and picnic baskets are allowed if patrons choose to bring their own.
URL:https://www.michiganhumanities.org/event/music-in-the-park-featuring-the-jerry-ross-band/
LOCATION:Macomb Corners Park\, 19449 25 Mile Rd\, Macomb\, Michigan\, 48042
ATTACH;FMTTYPE=image/png:https://www.michiganhumanities.org/wp-content/uploads/music-in-the-park.png
END:VEVENT
BEGIN:VEVENT
DTSTART;TZID=America/Detroit:20250725T160000
DTEND;TZID=America/Detroit:20250725T180000
DTSTAMP:20260420T001636
CREATED:20250616T150523Z
LAST-MODIFIED:20250616T150523Z
UID:244401-1753459200-1753466400@www.michiganhumanities.org
SUMMARY:Comic Art Fantasy with Jerry DeCaire
DESCRIPTION:Marvel and DC comix artist Jerry DeCaire returns to Hazel Park for a program on drawing fantasy and mythological creatures\, followed by a hands on drawing workshop. \nThis event is partially funded by and Arts and Humanities Grant.
URL:https://www.michiganhumanities.org/event/comic-art-fantasy-with-jerry-decaire/
LOCATION:Hazel Park District Library\, 123 E 9 Mile Rd\, Hazel Park\, 48030\, United States
END:VEVENT
BEGIN:VEVENT
DTSTART;TZID=America/Detroit:20250726T140000
DTEND;TZID=America/Detroit:20250726T220000
DTSTAMP:20260420T001636
CREATED:20250616T154625Z
LAST-MODIFIED:20250616T154625Z
UID:244415-1753538400-1753567200@www.michiganhumanities.org
SUMMARY:Marina Fest
DESCRIPTION:Join us at Escanaba’s beautiful harbor in Ludington Park for Marina Fest 2025\, a full day of free live music featuring four fantastic bands. Bring a lawn chair\, soak in the lake breeze\, and enjoy great music in one of Escanaba’s most scenic locations. Marina Fest is the perfect summer celebration.\n\n2 p.m.ToHuBoHuEclectic Music w/ tuba\, blues guitar\n4 p.m.Union SuitsFolk and Bluegrass Music\n6 p.m.Polar BluesUpper Peninusla Blues Music\n8 p.m.Karlee MetzgerEscanaba Singer Songwriter from Nashville\n\nThis event is partially funded by an Arts and Humanities Grant.
URL:https://www.michiganhumanities.org/event/marina-fest/
LOCATION:Escanaba Marina\, 17 Water Plant Rd\, Escanaba\, Michigan\, 49829
ATTACH;FMTTYPE=image/jpeg:https://www.michiganhumanities.org/wp-content/uploads/marina-fest.jpg
END:VEVENT
BEGIN:VEVENT
DTSTART;TZID=America/Detroit:20250728T130000
DTEND;TZID=America/Detroit:20250728T140000
DTSTAMP:20260420T001636
CREATED:20250616T165739Z
LAST-MODIFIED:20250616T165739Z
UID:244434-1753707600-1753711200@www.michiganhumanities.org
SUMMARY:Ben Traverse
DESCRIPTION:Bluegrass\, old time\, celtic\, and sea shanty lovers rejoice! Michigan folksinger and Earthwork Music artist Ben Traverse is coming to the library for a sea shanty singalong. This is an opportunity to connect with a centuries-old tradition of communal singing. \nThis event is partially funded by an Arts and Humanities Grant.
URL:https://www.michiganhumanities.org/event/ben-traverse/
LOCATION:Richmond Township Library\, 304 Snyder St\, Palmer\, Michigan\, 49871
ATTACH;FMTTYPE=image/jpeg:https://www.michiganhumanities.org/wp-content/uploads/BEn-Traverse-Pic.jpg
END:VEVENT
END:VCALENDAR