BEGIN:VCALENDAR
VERSION:2.0
PRODID:-//Michigan Humanities - ECPv6.15.20//NONSGML v1.0//EN
CALSCALE:GREGORIAN
METHOD:PUBLISH
X-ORIGINAL-URL:https://www.michiganhumanities.org
X-WR-CALDESC:Events for Michigan Humanities
REFRESH-INTERVAL;VALUE=DURATION:PT1H
X-Robots-Tag:noindex
X-PUBLISHED-TTL:PT1H
BEGIN:VTIMEZONE
TZID:America/Detroit
BEGIN:DAYLIGHT
TZOFFSETFROM:-0500
TZOFFSETTO:-0400
TZNAME:EDT
DTSTART:20230312T070000
END:DAYLIGHT
BEGIN:STANDARD
TZOFFSETFROM:-0400
TZOFFSETTO:-0500
TZNAME:EST
DTSTART:20231105T060000
END:STANDARD
BEGIN:DAYLIGHT
TZOFFSETFROM:-0500
TZOFFSETTO:-0400
TZNAME:EDT
DTSTART:20240310T070000
END:DAYLIGHT
BEGIN:STANDARD
TZOFFSETFROM:-0400
TZOFFSETTO:-0500
TZNAME:EST
DTSTART:20241103T060000
END:STANDARD
BEGIN:DAYLIGHT
TZOFFSETFROM:-0500
TZOFFSETTO:-0400
TZNAME:EDT
DTSTART:20250309T070000
END:DAYLIGHT
BEGIN:STANDARD
TZOFFSETFROM:-0400
TZOFFSETTO:-0500
TZNAME:EST
DTSTART:20251102T060000
END:STANDARD
END:VTIMEZONE
BEGIN:VEVENT
DTSTART;TZID=America/Detroit:20240302T190000
DTEND;TZID=America/Detroit:20240302T190000
DTSTAMP:20260423T004759
CREATED:20240222T163412Z
LAST-MODIFIED:20240222T163412Z
UID:242277-1709406000-1709406000@www.michiganhumanities.org
SUMMARY:Jordan Hamilton & Seth Bernard
DESCRIPTION:Jordan and Seth will be performing together for a unforgettable evening. Jordan Hamilton is a talented musician who plays the cello and sings. He is known for his unique style that combines traditional mastery with a more experimental approach. He will be featuring his new music from J.NOH Seth Bernard will be playing from his music project called Headwaters. This project is inspired by the simple melodies that the musician creates on their guitar.\n\nFunding for this program was provided by Michigan Humanities –Arts and Humanities Touring Grant. Any views\, findings\, conclusions or recommendations expressed in this program do not necessarily represent those of Michigan Humanities or the aforementioned entities.
URL:https://www.michiganhumanities.org/event/jordan-hamilton-seth-bernard/
LOCATION:Huron Valley Council for the Arts\, 205 W Livingston Rd\, Highland Charter Twp\, MI\, 48357
ATTACH;FMTTYPE=image/jpeg:https://www.michiganhumanities.org/wp-content/uploads/428631533_909507087850946_4940442761649325927_n.jpg
END:VEVENT
BEGIN:VEVENT
DTSTART;TZID=America/Detroit:20240303T200000
DTEND;TZID=America/Detroit:20240303T200000
DTSTAMP:20260423T004759
CREATED:20240222T155353Z
LAST-MODIFIED:20240222T190848Z
UID:242261-1709496000-1709496000@www.michiganhumanities.org
SUMMARY:Blackthorn in Concert
DESCRIPTION:Blackthorn returns to the Hawk Mainstage in their 24th year performing with the Cultural Arts Division. The Irish music sensations of Michigan brings Celtic tunes to get you up and dancing. Join Richard\, Michael\, Dennis and Frederick for a great night of music. \nFunding for this program was provided by Michigan Humanities –Arts and Humanities Touring Grant. Any views\, findings\, conclusions or recommendations expressed in this program do not necessarily represent those of Michigan Humanities or the aforementioned entities.
URL:https://www.michiganhumanities.org/event/blackthorn-in-concert/
LOCATION:The Hawk – Farmington Hills Community Center\, 29995 W 12 Mile Rd\, Farmington Hills\, MI\, 48334
ATTACH;FMTTYPE=image/jpeg:https://www.michiganhumanities.org/wp-content/uploads/7ae3609ab2f479eebd65221c8f513501b1afc893eb33fc39f3a845d58ea371cb-rimg-w580-h386-gmir.jpg
END:VEVENT
BEGIN:VEVENT
DTSTART;TZID=America/Detroit:20240304T141500
DTEND;TZID=America/Detroit:20240304T160000
DTSTAMP:20260423T004759
CREATED:20240221T192254Z
LAST-MODIFIED:20240227T173401Z
UID:242204-1709561700-1709568000@www.michiganhumanities.org
SUMMARY:Great Reads Book Club: Firekeeper’s Daughter
DESCRIPTION:To register\, contact: reference@saginawlibrary.org or call 989-755-0904. \nFunding for the Great Michigan Read program is provided by Michigan Humanities. Any views\, findings\, conclusions or recommendations expressed in this program do not necessarily represent those of Michigan Humanities or the aforementioned entities.
URL:https://www.michiganhumanities.org/event/great-reads-book-club-firekeepers-daughter/
LOCATION:Hoyt Public Library\, 505 Janes Ave\, Saginaw\, MI\, 48607\, United States
ATTACH;FMTTYPE=image/jpeg:https://www.michiganhumanities.org/wp-content/uploads/Untitled-design-32.jpg
END:VEVENT
BEGIN:VEVENT
DTSTART;TZID=America/Detroit:20240306T183000
DTEND;TZID=America/Detroit:20240306T200000
DTSTAMP:20260423T004759
CREATED:20240221T193515Z
LAST-MODIFIED:20240227T173418Z
UID:242208-1709749800-1709755200@www.michiganhumanities.org
SUMMARY:Ziibiwing Center Song & Dance Presentation
DESCRIPTION:Dance is an important part of Anishinabe culture. The contemporary Pow Wow is a continuation of our ancestors’ tradition and an expression of contemporary North American Indian Identity. They provide an opportunity for visitors to be immersed in the sights and sounds of North American Indian culture. Join us for this demonstration as part of the Great Lakes Bay Reads programming series. \nFunding for the Great Michigan Read program is provided by Michigan Humanities. Any views\, findings\, conclusions or recommendations expressed in this program do not necessarily represent those of Michigan Humanities or the aforementioned entities.
URL:https://www.michiganhumanities.org/event/ziibiwing-center-song-dance-presentation/
LOCATION:Zauel Memorial Library\, 3100 N Center Rd\, Saginaw\, Michigan\, 48603
END:VEVENT
BEGIN:VEVENT
DTSTART;TZID=America/Detroit:20240306T183000
DTEND;TZID=America/Detroit:20240306T200000
DTSTAMP:20260423T004759
CREATED:20240221T194458Z
LAST-MODIFIED:20240227T173439Z
UID:242213-1709749800-1709755200@www.michiganhumanities.org
SUMMARY:Ziibiwing Center Song & Dance Presentation
DESCRIPTION:Join us for our Book Royale\, a trivia centered book club.  This program for adults will quiz your general book knowledge and which facts you can remember from this month’s book choice\, Firekeeper’s Daughter by Angeline Boulley. Participants may register as an individual or a team of two. Please join us for this discussion of this book on Tuesday\, April 9th. \nFunding for the Great Michigan Read program is provided by Michigan Humanities. Any views\, findings\, conclusions or recommendations expressed in this program do not necessarily represent those of Michigan Humanities or the aforementioned entities.
URL:https://www.michiganhumanities.org/event/ziibiwing-center-song-dance-presentation-2/
LOCATION:Grace A. Dow Memorial Library\, 1710 W. St. Andrews Road\, Midland\, MI\, 48640\, United States
ATTACH;FMTTYPE=image/jpeg:https://www.michiganhumanities.org/wp-content/uploads/Untitled-design-32.jpg
END:VEVENT
BEGIN:VEVENT
DTSTART;TZID=America/Detroit:20240308T190000
DTEND;TZID=America/Detroit:20240308T190000
DTSTAMP:20260423T004759
CREATED:20240222T153616Z
LAST-MODIFIED:20240222T153845Z
UID:242249-1709924400-1709924400@www.michiganhumanities.org
SUMMARY:WLHS Drama Club Presents Disney’s The Little Mermaid
DESCRIPTION:Based on the Hans Christian Andersen story and the Disney film produced by Howard Ashman & John Musher and written & directed by John Musker and Ron Clements. Originally produced by Disney Theatrical Productions. Disney’s The Little Mermaid is presented through special arrangement with Music Theatre International (MTI). All authorized performance materials are also supplied by MTI. \nFunding for this program was provided by Michigan Humanities –Arts and Humanities Touring Grant. Any views\, findings\, conclusions or recommendations expressed in this program do not necessarily represent those of Michigan Humanities or the aforementioned entities.
URL:https://www.michiganhumanities.org/event/wlhs-drama-club-presents-disneys-the-little-mermaid/
LOCATION:Whitmore Lake High School\, 7430 Whitmore Lake Rd\, Whitmore Lake\, MI\, 48189
ATTACH;FMTTYPE=image/jpeg:https://www.michiganhumanities.org/wp-content/uploads/8eef1a33834d35d5758d63f1ffedf18f6a85d5498b3737b7b8e08dca47a23c4d-rimg-w588-h960-gmir.jpg
END:VEVENT
BEGIN:VEVENT
DTSTART;TZID=America/Detroit:20240309T090000
DTEND;TZID=America/Detroit:20240309T140000
DTSTAMP:20260423T004759
CREATED:20240205T161836Z
LAST-MODIFIED:20240205T175839Z
UID:242084-1709974800-1709992800@www.michiganhumanities.org
SUMMARY:Michigan Poetry Out Loud State Finals
DESCRIPTION:Join students\, teachers\, and community members from across the state for the 2024 Michigan Poetry Out Loud State Finals\, an annual competition to be held at the Crowne Plaza Lansing on Saturday\, March 9\, 2024\, from 9 a.m. to 2 p.m. The Crowne Plaza Lansing is located at at 925 S Creyts Rd.\, Lansing\, MI 48917.Poetry Out Loud is a high school poetry recitation program sponsored by the National Endowment for the Arts (NEA) and Poetry Foundation\, and administered in our state by Michigan Humanities in partnership with the Michigan Arts and Culture Council. This year\, students from 20 Michigan high schools\, stretching from the Upper Peninsula to the Greater Detroit area\, will compete for the title of state champion through three rounds of recitation. The state champion will receive a cash award and represent Michigan in this year’s national championship\, where they have the opportunity to win a $20\,000 college scholarship. In addition\, the state champion’s school will receive a stipend toward the purchase of poetry materials. Finalists and their respective schools will also be awarded cash prizes and stipends. The Poetry Out Loud program provides an exciting opportunity for high school students to engage in the arts and humanities\, showcase their creativity\, build public speaking skills\, and express themselves through poetry interpretation.All are invited to attend to see the student poetry recitations. No RSVP is required.
URL:https://www.michiganhumanities.org/event/michigan-poetry-out-loud-state-finals/
LOCATION:Crowne Plaza Lansing\, 925 S Creyts Rd\, Lansing\, Michigan\, 48917
ATTACH;FMTTYPE=image/jpeg:https://www.michiganhumanities.org/wp-content/uploads/POLD85_2136-scaled.jpg
END:VEVENT
BEGIN:VEVENT
DTSTART;TZID=America/Detroit:20240309T140000
DTEND;TZID=America/Detroit:20240309T140000
DTSTAMP:20260423T004759
CREATED:20240222T164750Z
LAST-MODIFIED:20240222T164750Z
UID:242286-1709992800-1709992800@www.michiganhumanities.org
SUMMARY:Morel 101: Pickin' with the Champ
DESCRIPTION:Pickin’ with the Champ…with five-time Morel Picking Champion Anthony Williams. Morel stories\, folklore\, and tips! Register for this event by logging into your account on our catalog and find the sign-up under “Events & Rooms.” \nFunding for this program was provided by Michigan Humanities –Arts and Humanities Touring Grant. Any views\, findings\, conclusions or recommendations expressed in this program do not necessarily represent those of Michigan Humanities or the aforementioned entities.
URL:https://www.michiganhumanities.org/event/morel-101-pickin-with-the-champ/
LOCATION:Big Rapids Community Library\, 426 S. Michigan Ave.\, Big Rapids\, MI\, 49307
ATTACH;FMTTYPE=image/jpeg:https://www.michiganhumanities.org/wp-content/uploads/427861137_791820932985663_19070311627984062_n.jpg
END:VEVENT
BEGIN:VEVENT
DTSTART;TZID=America/Detroit:20240309T180000
DTEND;TZID=America/Detroit:20240309T210000
DTSTAMP:20260423T004759
CREATED:20240222T151330Z
LAST-MODIFIED:20240222T151716Z
UID:242239-1710007200-1710018000@www.michiganhumanities.org
SUMMARY:Irish Night
DESCRIPTION:Irish night is back!  starting the night off is local band “Black House Monks”  followed by Kennedy’s Kitchen.  Kennedy’s Kitchen\, led by joHn Kennedy\, plays a mix of all things Irish\, based in the heart of South Bend\, Indiana.“ \nFunding for this program was provided by Michigan Humanities –Arts and Humanities Touring Grant. Any views\, findings\, conclusions or recommendations expressed in this program do not necessarily represent those of Michigan Humanities or the aforementioned entities.
URL:https://www.michiganhumanities.org/event/earth-day-musical-fun/
LOCATION:The Ramsdell Regional Center for the Arts\, 101 Maple Street\, Manistee\, MI\, 49660
ATTACH;FMTTYPE=image/png:https://www.michiganhumanities.org/wp-content/uploads/ClientFile513450.png
END:VEVENT
BEGIN:VEVENT
DTSTART;TZID=America/Detroit:20240309T190000
DTEND;TZID=America/Detroit:20240309T190000
DTSTAMP:20260423T004759
CREATED:20240305T182146Z
LAST-MODIFIED:20240305T182146Z
UID:242367-1710010800-1710010800@www.michiganhumanities.org
SUMMARY:WLHS Drama Club Presents Disney’s The Little Mermaid
DESCRIPTION:Based on the Hans Christian Andersen story and the Disney film produced by Howard Ashman & John Musher and written & directed by John Musker and Ron Clements. Originally produced by Disney Theatrical Productions. Disney’s The Little Mermaid is presented through special arrangement with Music Theatre International (MTI). All authorized performance materials are also supplied by MTI. \nFunding for this program was provided by Michigan Humanities –Arts and Humanities Touring Grant. Any views\, findings\, conclusions or recommendations expressed in this program do not necessarily represent those of Michigan Humanities or the aforementioned entities.
URL:https://www.michiganhumanities.org/event/wlhs-drama-club-presents-disneys-the-little-mermaid-2/
LOCATION:Whitmore Lake High School\, 7430 Whitmore Lake Rd\, Whitmore Lake\, MI\, 48189
ATTACH;FMTTYPE=image/jpeg:https://www.michiganhumanities.org/wp-content/uploads/8eef1a33834d35d5758d63f1ffedf18f6a85d5498b3737b7b8e08dca47a23c4d-rimg-w588-h960-gmir.jpg
END:VEVENT
BEGIN:VEVENT
DTSTART;TZID=America/Detroit:20240310T140000
DTEND;TZID=America/Detroit:20240310T140000
DTSTAMP:20260423T004759
CREATED:20240305T182335Z
LAST-MODIFIED:20240305T182335Z
UID:242369-1710079200-1710079200@www.michiganhumanities.org
SUMMARY:WLHS Drama Club Presents Disney’s The Little Mermaid
DESCRIPTION:Based on the Hans Christian Andersen story and the Disney film produced by Howard Ashman & John Musher and written & directed by John Musker and Ron Clements. Originally produced by Disney Theatrical Productions. Disney’s The Little Mermaid is presented through special arrangement with Music Theatre International (MTI). All authorized performance materials are also supplied by MTI. \nFunding for this program was provided by Michigan Humanities –Arts and Humanities Touring Grant. Any views\, findings\, conclusions or recommendations expressed in this program do not necessarily represent those of Michigan Humanities or the aforementioned entities.
URL:https://www.michiganhumanities.org/event/wlhs-drama-club-presents-disneys-the-little-mermaid-3/
LOCATION:Whitmore Lake High School\, 7430 Whitmore Lake Rd\, Whitmore Lake\, MI\, 48189
ATTACH;FMTTYPE=image/jpeg:https://www.michiganhumanities.org/wp-content/uploads/8eef1a33834d35d5758d63f1ffedf18f6a85d5498b3737b7b8e08dca47a23c4d-rimg-w588-h960-gmir.jpg
END:VEVENT
BEGIN:VEVENT
DTSTART;TZID=America/Detroit:20240312T180000
DTEND;TZID=America/Detroit:20240312T190000
DTSTAMP:20260423T004759
CREATED:20240129T190350Z
LAST-MODIFIED:20240227T173646Z
UID:242052-1710266400-1710270000@www.michiganhumanities.org
SUMMARY:One Book One Community of Monroe County - Kickoff with Sally Cole-Misch
DESCRIPTION:Funding for the Great Michigan Read program is provided by Michigan Humanities. Any views\, findings\, conclusions or recommendations expressed in this program do not necessarily represent those of Michigan Humanities or the aforementioned entities.
URL:https://www.michiganhumanities.org/event/one-book-one-community-of-monroe-county-kickoff-with-sally-cole-misch/
LOCATION:Monroe County Community College Library\, 1555 S. Raisinville Road\, Monroe\, 48161
ATTACH;FMTTYPE=image/jpeg:https://www.michiganhumanities.org/wp-content/uploads/Slide41-OBOC-Announcement_0-scaled.jpg
END:VEVENT
BEGIN:VEVENT
DTSTART;TZID=America/Detroit:20240312T180000
DTEND;TZID=America/Detroit:20240312T190000
DTSTAMP:20260423T004759
CREATED:20240221T195426Z
LAST-MODIFIED:20240227T173524Z
UID:242220-1710266400-1710270000@www.michiganhumanities.org
SUMMARY:Books on Tap
DESCRIPTION:Come on down to The Pull Barn for their first-ever Books on Tap Club! Let’s dive into a spirited discussion about “Firekeeper’s Daughter.” Grab a complimentary copy at the Elk Rapids Library\, and on book club night\, your first pint is just $1. See you there! \nFunding for the Great Michigan Read program is provided by Michigan Humanities. Any views\, findings\, conclusions or recommendations expressed in this program do not necessarily represent those of Michigan Humanities or the aforementioned entities.
URL:https://www.michiganhumanities.org/event/books-on-tap-2/
LOCATION:Short’s Brewing Company – Pull Barn\, 211 Industrial Park\, Elk Rapids\, MI\, 49629
ATTACH;FMTTYPE=image/jpeg:https://www.michiganhumanities.org/wp-content/uploads/Screenshot_21-2-2024_145252_www.shortsbrewing.com_.jpeg
END:VEVENT
BEGIN:VEVENT
DTSTART;TZID=America/Detroit:20240313T180000
DTEND;TZID=America/Detroit:20240313T180000
DTSTAMP:20260423T004759
CREATED:20240214T204138Z
LAST-MODIFIED:20240227T173618Z
UID:242135-1710352800-1710352800@www.michiganhumanities.org
SUMMARY:Smithsonian American Art Museum
DESCRIPTION:Virtual Program by The Smithsonian American Art Museum: Don’t miss our live virtual program! Stay tuned for a unique experience that explores the cultural depths of Fire Keeper’s Daughter. \nRegister by calling or emailing jen@wicksonlibrary.org \nFunding for the Great Michigan Read program is provided by Michigan Humanities. Any views\, findings\, conclusions or recommendations expressed in this program do not necessarily represent those of Michigan Humanities or the aforementioned entities.
URL:https://www.michiganhumanities.org/event/smithsonian-american-art-museum/
LOCATION:Frankenmuth James E Wickson District Library\, 359 S Franklin St\, Frankenmuth\, MI\, 48734
ATTACH;FMTTYPE=image/jpeg:https://www.michiganhumanities.org/wp-content/uploads/426211386_781600210674284_6968713472406930058_n.jpg
END:VEVENT
BEGIN:VEVENT
DTSTART;TZID=America/Detroit:20240319T173000
DTEND;TZID=America/Detroit:20240319T193000
DTSTAMP:20260423T004759
CREATED:20240221T194207Z
LAST-MODIFIED:20240227T173638Z
UID:242211-1710869400-1710876600@www.michiganhumanities.org
SUMMARY:Book Royale: Firekeeper's Daughter
DESCRIPTION:To register\, contact: jpotter@saginawlibrary.org or call 989-799-9160. \nFunding for the Great Michigan Read program is provided by Michigan Humanities. Any views\, findings\, conclusions or recommendations expressed in this program do not necessarily represent those of Michigan Humanities or the aforementioned entities.
URL:https://www.michiganhumanities.org/event/book-royale-firekeepers-daughter/
LOCATION:Butman-Fish Branch Library\, 1716 Hancock St\, Saginaw\, MI\, 48602\, United States
ATTACH;FMTTYPE=image/jpeg:https://www.michiganhumanities.org/wp-content/uploads/Untitled-design-32.jpg
END:VEVENT
BEGIN:VEVENT
DTSTART;TZID=America/Detroit:20240319T183000
DTEND;TZID=America/Detroit:20240319T183000
DTSTAMP:20260423T004759
CREATED:20240222T141937Z
LAST-MODIFIED:20240227T173738Z
UID:242231-1710873000-1710873000@www.michiganhumanities.org
SUMMARY:Book Club: The Firekeeper's Daughter
DESCRIPTION:Pick up a book at the library and join us for a great discussion. This is the Great Michigan Read book for this year so we have copies that you can take and share with friends.\n“Eighteen-year-old Daunis Fontaine has never quite fit in\, both in her hometown and on the nearby Ojibwe reservation. She dreams of a fresh start at college\, but when family tragedy strikes\, Daunis puts her future on hold to look after her fragile mother. The only bright spot is meeting Jamie\, the charming new recruit on her brother Levi’s hockey team.\nYet even as Daunis falls for Jamie\, she senses the dashing hockey star is hiding something. Everything comes to light when Daunis witnesses a shocking murder\, thrusting her into an FBI investigation of a lethal new drug. \nReluctantly\, Daunis agrees to go undercover\, drawing on her knowledge of chemistry and Ojibwe traditional medicine to track down the source. But the search for truth is more complicated than Daunis imagined\, exposing secrets and old scars. At the same time\, she grows concerned with an investigation that seems more focused on punishing the offenders than protecting the victims.\nNow\, as the deceptions―and deaths―keep growing\, Daunis must learn what it means to be a strong Anishinaabe kwe (Ojibwe woman) and how far she’ll go for her community\, even if it tears apart the only world she’s ever known.” \nFunding for the Great Michigan Read program is provided by Michigan Humanities. Any views\, findings\, conclusions or recommendations expressed in this program do not necessarily represent those of Michigan Humanities or the aforementioned entities.
URL:https://www.michiganhumanities.org/event/book-club-the-firekeepers-daughter/
LOCATION:Caro Area District Library\, 840 W Frank St\, Caro\, MI\, 48723
ATTACH;FMTTYPE=application/pdf:https://www.michiganhumanities.org/wp-content/uploads/Mar2024-Book-Club.pdf
END:VEVENT
BEGIN:VEVENT
DTSTART;TZID=America/Detroit:20240319T190000
DTEND;TZID=America/Detroit:20240319T190000
DTSTAMP:20260423T004759
CREATED:20240129T190208Z
LAST-MODIFIED:20240227T173752Z
UID:242049-1710874800-1710874800@www.michiganhumanities.org
SUMMARY:One Book One Community of Monroe County An Evening with the Author: Angeline Boulley
DESCRIPTION:Funding for the Great Michigan Read program is provided by Michigan Humanities. Any views\, findings\, conclusions or recommendations expressed in this program do not necessarily represent those of Michigan Humanities or the aforementioned entities.
URL:https://www.michiganhumanities.org/event/one-book-one-community-of-monroe-county-an-evening-with-the-author-angeline-boulley/
LOCATION:La-Z-Boy Center/Meyer Theatre\, 1555 S. Raisinville Road\, Monroe\, MI\, 48161
ATTACH;FMTTYPE=image/jpeg:https://www.michiganhumanities.org/wp-content/uploads/Slide41-OBOC-Announcement_0-scaled.jpg
END:VEVENT
BEGIN:VEVENT
DTSTART;TZID=America/Detroit:20240321T173000
DTEND;TZID=America/Detroit:20240321T193000
DTSTAMP:20260423T004759
CREATED:20240223T204951Z
LAST-MODIFIED:20240223T204951Z
UID:242315-1711042200-1711049400@www.michiganhumanities.org
SUMMARY:Nigitigaaninaan (Our Plants) with the Ziibiwing Center
DESCRIPTION:Before European contact\, the Anishinabek had their own ways of using plants. The Anishinabek have special relationships with the plants. This valuable information has been passed down from elders to children over generations\, and still perseveres today. Learn about some Anishinabe uses of plants\, and how plants are viewed in a cultural context. \nTo Register\, Contact: sreinhardt@saginawlibrary.org or call 989-799-9160
URL:https://www.michiganhumanities.org/event/nigitigaaninaan-our-plants-with-the-ziibiwing-center/
LOCATION:Butman-Fish Branch Library\, 1716 Hancock St\, Saginaw\, MI\, 48602\, United States
ATTACH;FMTTYPE=image/png:https://www.michiganhumanities.org/wp-content/uploads/newmuseumlogo-gray_3.png
END:VEVENT
BEGIN:VEVENT
DTSTART;VALUE=DATE:20240323
DTEND;VALUE=DATE:20240324
DTSTAMP:20260423T004759
CREATED:20240314T175528Z
LAST-MODIFIED:20240314T175528Z
UID:242395-1711152000-1711238399@www.michiganhumanities.org
SUMMARY:Extraordinary Women of the U.P. Exhibit Opening
DESCRIPTION:To celebrate Women’s History Month and the great accomplishments of women across the region\, the Beaumier U.P. Heritage Center is opening the exhibition\, “Extraordinary Women of the U.P.\,” on Saturday\, March 23 at 1 p.m. The event will take place in the Center’s gallery in Gries Hall on the campus of Northern Michigan University and is free and open to the public. The exhibition will be on display through August 3 and then will begin touring the Upper Peninsula in the fall of 2024. It is funded in part by a grant from the Michigan Humanities Council\, an affiliate of the National Endowment for the Humanities. \n“Extraordinary Women of the U.P.” will feature the stories of no less than 60 women who made an impact in many different categories including the arts\, education\, politics\, medicine\, activism and public service. Many were born and raised in the Upper Peninsula and others came to the region later in life\, but they all share in common great accomplishments in their careers\, volunteerism and community service. Some of the women went on to have careers that have had an impact on the nation and even the world where others stayed in their hometowns and made them better communities for everyone. \nMuch of the research for the exhibition was conducted by students of Dr. Emily Romeo’s women’s history course in the fall of 2023 at Northern Michigan University. Nominees were also submitted by local historical societies and private individuals.  The final list was determined by a committee consisting of: Lisa Cromell\, director of the Munising School Public Library; Kathleen Long\, director of the Iron County Historical Museum; Elise Nelson\, director of the Carnegie Museum of the Keweenaw; Dr. Emily Romeo\, assistant professor of history\, Northern Michigan University; Daniel Truckey\, director/curator of the Beaumier U.P. Heritage Center. \nA short list of some the individuals featured in the exhibition include the pioneering accordionist Viola Turpeinen\, the Anishinaabe poetess Jane Johnston Schoolcraft\, medical researcher Kathleen Shingler Weston\, politician Connie Berube Binsfeld\, labor organizer Annie Clemenc and many more iconic figures who have made the world a better place. Where many of the women are household names in the U.P.\, the community had some amazing discoveries of some lesser known yet fantastic women\, such as\, the civil rights activist and suffragette Blanche Williams Stubbs\, daredevil wing/walker Sarah Kalishek\, to an early disability advocate and publisher Nettie Steffenson Thorborg. \nFor more information go to www.nmu.edu/beaumier or call 906-227-3212. \nFunding for this program was provided by Michigan Humanities – Humanities Grant. Any views\, findings\, conclusions or recommendations expressed in this program do not necessarily represent those of Michigan Humanities or the aforementioned entities.
URL:https://www.michiganhumanities.org/event/extraordinary-women-of-the-u-p-exhibit-opening/
LOCATION:NMU Beaumier Heritage Center\, 1401 Presque Avenue\, Marquette\, MI\, 49855
ATTACH;FMTTYPE=image/jpeg:https://www.michiganhumanities.org/wp-content/uploads/image002-1.jpg
END:VEVENT
END:VCALENDAR