BEGIN:VCALENDAR
VERSION:2.0
PRODID:-//Michigan Humanities - ECPv6.15.20//NONSGML v1.0//EN
CALSCALE:GREGORIAN
METHOD:PUBLISH
X-WR-CALNAME:Michigan Humanities
X-ORIGINAL-URL:https://www.michiganhumanities.org
X-WR-CALDESC:Events for Michigan Humanities
REFRESH-INTERVAL;VALUE=DURATION:PT1H
X-Robots-Tag:noindex
X-PUBLISHED-TTL:PT1H
BEGIN:VTIMEZONE
TZID:America/Detroit
BEGIN:DAYLIGHT
TZOFFSETFROM:-0500
TZOFFSETTO:-0400
TZNAME:EDT
DTSTART:20230312T070000
END:DAYLIGHT
BEGIN:STANDARD
TZOFFSETFROM:-0400
TZOFFSETTO:-0500
TZNAME:EST
DTSTART:20231105T060000
END:STANDARD
BEGIN:DAYLIGHT
TZOFFSETFROM:-0500
TZOFFSETTO:-0400
TZNAME:EDT
DTSTART:20240310T070000
END:DAYLIGHT
BEGIN:STANDARD
TZOFFSETFROM:-0400
TZOFFSETTO:-0500
TZNAME:EST
DTSTART:20241103T060000
END:STANDARD
BEGIN:DAYLIGHT
TZOFFSETFROM:-0500
TZOFFSETTO:-0400
TZNAME:EDT
DTSTART:20250309T070000
END:DAYLIGHT
BEGIN:STANDARD
TZOFFSETFROM:-0400
TZOFFSETTO:-0500
TZNAME:EST
DTSTART:20251102T060000
END:STANDARD
END:VTIMEZONE
BEGIN:VEVENT
DTSTART;TZID=America/Detroit:20240106T110000
DTEND;TZID=America/Detroit:20240106T120000
DTSTAMP:20260422T220939
CREATED:20231204T191632Z
LAST-MODIFIED:20231204T193527Z
UID:241905-1704538800-1704542400@www.michiganhumanities.org
SUMMARY:Where the Wild Things Are
DESCRIPTION:Magic Carpet Theatre will present a live theatre performance titled “Where the Wild Things Are. \nFunding for this program was provided by Michigan Humanities – Arts and Humanities Touring Grant. Any views\, findings\, conclusions or recommendations expressed in this program do not necessarily represent those of Michigan Humanities or the aforementioned entities
URL:https://www.michiganhumanities.org/event/where-the-wild-things-are/
LOCATION:Chesterfield Township Library\, 50560 Patricia Avenue\, Chesterfield\, MI\, 48051\, United States
ATTACH;FMTTYPE=image/jpeg:https://www.michiganhumanities.org/wp-content/uploads/baefc2fe7f19c506edfc3ec6ff56b2dd.jpg
END:VEVENT
BEGIN:VEVENT
DTSTART;TZID=America/Detroit:20240121T140000
DTEND;TZID=America/Detroit:20240121T150000
DTSTAMP:20260422T220939
CREATED:20231204T195108Z
LAST-MODIFIED:20231204T195108Z
UID:241908-1705845600-1705849200@www.michiganhumanities.org
SUMMARY:Sunday Concert Series
DESCRIPTION:The Sunday Concert Series is back! In January\, we are pleased to welcome the Traditional Celtic Band\, Uneven Ground. Uneven Ground blends its traditional Celtic and Irish music with vocals\, fiddle\, guitar\, tin whistle\, flute\, mandolin\, and bodhran to escort you on an exclusive musical journey. Grounded from the roots of traditional Irish folk music\, Uneven Ground offers energetic pub tunes combined with familiar folk songs for an interactive\, foot-stomping program for all ages. \nFunding for this program was provided by Michigan Humanities – Arts and Humanities Touring Grant. Any views\, findings\, conclusions or recommendations expressed in this program do not necessarily represent those of Michigan Humanities or the aforementioned entities
URL:https://www.michiganhumanities.org/event/sunday-concert-series/
LOCATION:Loutit District Library\, 407 Columbus Avenue\, Grand Haven\, MI\, 49417
ATTACH;FMTTYPE=image/jpeg:https://www.michiganhumanities.org/wp-content/uploads/03709becf4049ec20c3eda9db4a1cbc2_Sunday-Concert-Series.jpg
END:VEVENT
BEGIN:VEVENT
DTSTART;TZID=America/Detroit:20240121T160000
DTEND;TZID=America/Detroit:20240121T173000
DTSTAMP:20260422T220939
CREATED:20231204T201912Z
LAST-MODIFIED:20231204T201912Z
UID:241928-1705852800-1705858200@www.michiganhumanities.org
SUMMARY:Sunday Afternoon Live presents Samuel Fedele
DESCRIPTION:Sunday Afternoon Live is a small outreach group sponsored by First Congregational Church of Battle Creek. Our mission is to enrich the cultural life of the greater Battle Creek Community and to continue the tradition of the church (FCCBC) as a patron of artistic creativity and expression. We endeavor to do this by sponsoring a series of free concerts that present musical artistry that is exciting\, beautiful\, varied and enjoyable. Samuel Fedele is a local resident currently studying piano performance. He is a newcomer\, but well known in the community\, and will appeal to our classical music enthusiasts. \nFunding for this program was provided by Michigan Humanities – Arts and Humanities Touring Grant. Any views\, findings\, conclusions or recommendations expressed in this program do not necessarily represent those of Michigan Humanities or the aforementioned entities.
URL:https://www.michiganhumanities.org/event/sunday-afternoon-live-presents-samuel-fedele/
LOCATION:First Congregational Church\, 145 Capitol Ave NE\, Battle Creek\, MI\, 49017
ATTACH;FMTTYPE=image/jpeg:https://www.michiganhumanities.org/wp-content/uploads/FCCBClogo-Lg.jpg
END:VEVENT
BEGIN:VEVENT
DTSTART;TZID=America/Detroit:20240123T163000
DTEND;TZID=America/Detroit:20240123T173000
DTSTAMP:20260422T220939
CREATED:20231130T160358Z
LAST-MODIFIED:20231130T161547Z
UID:241860-1706027400-1706031000@www.michiganhumanities.org
SUMMARY:Firekeeper’s Daughter Book Discussion
DESCRIPTION:Troy Historic Village and Troy Public Library present two free book discussions inside Niles-Barnard House at the Village. Join us for a warm beverage\, a little friendly trivia competition\, and lively group discussion on Firekeeper’s Daughter. Discussion topics are different each time\, so come to one or both of the programs! Coffee and cocoa provided courtesy of Biggby.
URL:https://www.michiganhumanities.org/event/firekeepers-daughter-book-discussion/
LOCATION:Troy Historic Village\, 60 W. Wattles Road\, Troy\, MI\, 48098
ATTACH;FMTTYPE=image/jpeg:https://www.michiganhumanities.org/wp-content/uploads/9781250766564_FC-HI-RES-scaled.jpg
END:VEVENT
BEGIN:VEVENT
DTSTART;TZID=America/Detroit:20240125T180000
DTEND;TZID=America/Detroit:20240125T193000
DTSTAMP:20260422T220939
CREATED:20231204T200212Z
LAST-MODIFIED:20231204T200212Z
UID:241916-1706205600-1706211000@www.michiganhumanities.org
SUMMARY:Reg Pettibone's Authentic Native American Program
DESCRIPTION:In concert with the Great Michigan Read “The Firekeeper’s Daughter” by Angeline Boulley\, Next is coordinating several enriching and education programs\, food and craft classes\, cultural entertainment program and day trips to venues where we can learn more about Indigenous people and the culture from January – April\, 2024. On Thursday\, January 25 at 6 pm\, Next will host Reg Pettibone’s Authentic Native American Program also featuring Marca Pettibone with the Indigenous Women’s Ceremonial and Healing Dress. This program has received rave reviews and we are so excited to have Reg and Marca Pettibone visit Next. Reg Pettibone\, a full-blooded native American and champion pow-wow dancer of the Ho-Chunk nation and his wife will present a true understanding of Native American culture through dance\, song and stories. \nFunding for this program was provided by Michigan Humanities – Arts and Humanities Touring Grant. Any views\, findings\, conclusions or recommendations expressed in this program do not necessarily represent those of Michigan Humanities or the aforementioned entities.
URL:https://www.michiganhumanities.org/event/reg-pettibones-authentic-native-american-program/
LOCATION:Birmingham Next\, 2121 Midvale Street\, Birmingham\, MI\, 48009-1509
ATTACH;FMTTYPE=image/jpeg:https://www.michiganhumanities.org/wp-content/uploads/logo.jpg
END:VEVENT
BEGIN:VEVENT
DTSTART;TZID=America/Detroit:20240129T190000
DTEND;TZID=America/Detroit:20240129T200000
DTSTAMP:20260422T220939
CREATED:20231130T161008Z
LAST-MODIFIED:20231130T161928Z
UID:241869-1706554800-1706558400@www.michiganhumanities.org
SUMMARY:Beyond the Book with Wayne Hardwick
DESCRIPTION:Sault Ste. Marie Chippewa tribe member\, Eagle Staff Carrier\, and Indigenous Voices partner Wayne Hardwick will share his culture and experiences to expand our understanding of many of the important themes that come up in Firekeeper’s Daughter. Join us at the Troy Historic Village for a presentation and informal question and answer time.
URL:https://www.michiganhumanities.org/event/beyond-the-book-with-wayne-hardwick/
LOCATION:Troy Historic Village\, 60 W. Wattles Road\, Troy\, MI\, 48098
ATTACH;FMTTYPE=image/jpeg:https://www.michiganhumanities.org/wp-content/uploads/GMR_January-29_Wayne-Hardwick-300x300-1.jpg
END:VEVENT
END:VCALENDAR