BEGIN:VCALENDAR
VERSION:2.0
PRODID:-//Michigan Humanities - ECPv6.15.20//NONSGML v1.0//EN
CALSCALE:GREGORIAN
METHOD:PUBLISH
X-WR-CALNAME:Michigan Humanities
X-ORIGINAL-URL:https://www.michiganhumanities.org
X-WR-CALDESC:Events for Michigan Humanities
REFRESH-INTERVAL;VALUE=DURATION:PT1H
X-Robots-Tag:noindex
X-PUBLISHED-TTL:PT1H
BEGIN:VTIMEZONE
TZID:America/Detroit
BEGIN:DAYLIGHT
TZOFFSETFROM:-0500
TZOFFSETTO:-0400
TZNAME:EDT
DTSTART:20250309T070000
END:DAYLIGHT
BEGIN:STANDARD
TZOFFSETFROM:-0400
TZOFFSETTO:-0500
TZNAME:EST
DTSTART:20251102T060000
END:STANDARD
BEGIN:DAYLIGHT
TZOFFSETFROM:-0500
TZOFFSETTO:-0400
TZNAME:EDT
DTSTART:20260308T070000
END:DAYLIGHT
BEGIN:STANDARD
TZOFFSETFROM:-0400
TZOFFSETTO:-0500
TZNAME:EST
DTSTART:20261101T060000
END:STANDARD
BEGIN:DAYLIGHT
TZOFFSETFROM:-0500
TZOFFSETTO:-0400
TZNAME:EDT
DTSTART:20270314T070000
END:DAYLIGHT
BEGIN:STANDARD
TZOFFSETFROM:-0400
TZOFFSETTO:-0500
TZNAME:EST
DTSTART:20271107T060000
END:STANDARD
END:VTIMEZONE
BEGIN:VEVENT
DTSTART;TZID=America/Detroit:20260414T130000
DTEND;TZID=America/Detroit:20260414T150000
DTSTAMP:20260421T055137
CREATED:20260403T164221Z
LAST-MODIFIED:20260403T164221Z
UID:244990-1776171600-1776178800@www.michiganhumanities.org
SUMMARY:Great Michigan Read partner event featuring Curtis Chin: Alma
DESCRIPTION:Join Ballyhoo Books on April 14 as they host Curtis Chin\, author of the 2025-26 Great Michigan Read title Everything I Learned\, I Learned In a Chinese Restaurant.
URL:https://www.michiganhumanities.org/event/great-michigan-read-partner-event-featuring-curtis-chin-alma/
LOCATION:Ballyhoo Books\, 111 W Superior St\, Alma\, MI\, 48801\, United States
ATTACH;FMTTYPE=image/jpeg:https://www.michiganhumanities.org/wp-content/uploads/test-header-for-calendar-1.jpg
END:VEVENT
END:VCALENDAR