BEGIN:VCALENDAR
VERSION:2.0
PRODID:-//Michigan Humanities - ECPv6.15.20//NONSGML v1.0//EN
CALSCALE:GREGORIAN
METHOD:PUBLISH
X-ORIGINAL-URL:https://www.michiganhumanities.org
X-WR-CALDESC:Events for Michigan Humanities
REFRESH-INTERVAL;VALUE=DURATION:PT1H
X-Robots-Tag:noindex
X-PUBLISHED-TTL:PT1H
BEGIN:VTIMEZONE
TZID:America/Detroit
BEGIN:DAYLIGHT
TZOFFSETFROM:-0500
TZOFFSETTO:-0400
TZNAME:EDT
DTSTART:20240310T070000
END:DAYLIGHT
BEGIN:STANDARD
TZOFFSETFROM:-0400
TZOFFSETTO:-0500
TZNAME:EST
DTSTART:20241103T060000
END:STANDARD
BEGIN:DAYLIGHT
TZOFFSETFROM:-0500
TZOFFSETTO:-0400
TZNAME:EDT
DTSTART:20250309T070000
END:DAYLIGHT
BEGIN:STANDARD
TZOFFSETFROM:-0400
TZOFFSETTO:-0500
TZNAME:EST
DTSTART:20251102T060000
END:STANDARD
BEGIN:DAYLIGHT
TZOFFSETFROM:-0500
TZOFFSETTO:-0400
TZNAME:EDT
DTSTART:20260308T070000
END:DAYLIGHT
BEGIN:STANDARD
TZOFFSETFROM:-0400
TZOFFSETTO:-0500
TZNAME:EST
DTSTART:20261101T060000
END:STANDARD
END:VTIMEZONE
BEGIN:VEVENT
DTSTART;TZID=America/Detroit:20250618T100000
DTEND;TZID=America/Detroit:20250730T110000
DTSTAMP:20260419T223820
CREATED:20250605T144117Z
LAST-MODIFIED:20250605T144117Z
UID:244305-1750240800-1753873200@www.michiganhumanities.org
SUMMARY:Brighton Arts & Culture Commission Presents: Children's Summer Series
DESCRIPTION:The Children’s Summer Series\, presented by the Brighton Arts & Culture Commission\, is a free\, family-friendly event series that brings music\, magic\, theater\, and more to our outdoor amphitheater in downtown Brighton. Held on Wednesdays at 10 am\, starting June 18 and running through July 30\, this engaging series features a diverse lineup of talented performers who entertain and inspire young audiences with interactive\, high-energy shows. From live music and storytelling to dance and circus arts\, each event is designed to spark creativity\, laughter\, and fun for kids and families. \nThis event is partially funded by an Arts and Humanities Touring Grant.
URL:https://www.michiganhumanities.org/event/brighton-arts-culture-commission-presents-childrens-summer-series/
LOCATION:The Amp!\, 202 N. Main St.\, Brighton\, MI\, 48116\, United States
ATTACH;FMTTYPE=image/jpeg:https://www.michiganhumanities.org/wp-content/uploads/Brighton-Arts-and-Culture.jpg
END:VEVENT
BEGIN:VEVENT
DTSTART;TZID=America/Detroit:20250714T000000
DTEND;TZID=America/Detroit:20250720T000000
DTSTAMP:20260419T223820
CREATED:20250616T145352Z
LAST-MODIFIED:20250616T145913Z
UID:244394-1752451200-1752969600@www.michiganhumanities.org
SUMMARY:The Sound Garden Project: Fivemind Reeds
DESCRIPTION:The Cheboygan Area Arts Council is collaborating with Interlochen Public Radio’s 2025 Sound Garden Project to bring Fivemind Reeds to Cheboygan from July 14-19. The Sound Garden Project’s mission is to plant classical music in unexpected places as the featured musicians reimagine a 21st-century performance experience. In their ambitious hands\, a concert becomes an event\, and an audience becomes a community of inspiration\, understanding and hope. During their residency week\, Fivemind Reeds (a quintet of reed instruments) will perform a series of free\, public pop-up events in the Cheboygan area\, such as at the Farmers’ Markets\, the Art Fair\, in public parks and at downtown business locations. Each of these events will be short 30-45 minute appearances\, leading up to the final event.  All events are designed to be interactive with the community. \nTheir final concert event will take place on Saturday\, July 19\, 7:00pm at the historic Cheboygan Opera House. All events are free to the public and do not require reservations or tickets. The Sound Garden Project will be a unique opportunity to bring classical music out into our community and to break down the stereotypes of so-called elite music. We hope the experience will also inspire young people to consider studying an instrument\, either through private instruction or in their school’s music program. \nFivemind Reeds is a Los Angeles-based reed quintet with saxophonist Alexander Lee\, clarinetists Darren Liou and Kristine Llanderal\, bassoonist Matthew Rasmussen\, and oboist Thacher Schreiber. Formed in 2021 at UCLA’s Herb Alpert School of Music\, Fivemind has since performed in several concerts and recitals throughout Los Angeles and the United States. Most recently\, Fivemind was a two-time ensemble-in-residence for Interlochen Public Radio’s Sound Garden Project\, in other Northern Michigan communities. The quintet maintains a colorful and diverse repertoire\, from old masterworks by Mozart and Grieg to landmark contemporary works by composers such as David Biedenbender\, Marc Mellits\, and Jeff Scott. \nThis event is partially funded by an Arts and Humanities Grant.
URL:https://www.michiganhumanities.org/event/the-sound-garden-project-fivemind-reeds/
LOCATION:Cheboygan Opera House\, 403 N. Huron St\, Cheboygan\, MI\, 49721
ATTACH;FMTTYPE=image/webp:https://www.michiganhumanities.org/wp-content/uploads/fivemind-reeds.webp
END:VEVENT
BEGIN:VEVENT
DTSTART;TZID=America/Detroit:20250714T140000
DTEND;TZID=America/Detroit:20250714T144500
DTSTAMP:20260419T223820
CREATED:20250616T153654Z
LAST-MODIFIED:20250616T153654Z
UID:244409-1752501600-1752504300@www.michiganhumanities.org
SUMMARY:Cameron Zvara: Squeaky Clean Comedy Magician & Entertainer
DESCRIPTION:Join us for an afternoon of AMAZEMENT & FUN with Comedy Magician & Entertainer- Cameron Zvara! Cameron’s show is filled with mind blowing magic\, squeaky clean comedy\, and tons of audience participation. You do not want to miss out!  Location: Delta Center Elementary School Gym\, 305 S Canal Rd\, Lansing\, MI 48917.
URL:https://www.michiganhumanities.org/event/cameron-zvara-squeaky-clean-comedy-magician-entertainer/
LOCATION:Delta Center Elementary School Gym\, 305 S Canal Rd\, Lansing\, 48917
ATTACH;FMTTYPE=image/jpeg:https://www.michiganhumanities.org/wp-content/uploads/cameron.jpg
END:VEVENT
END:VCALENDAR