BEGIN:VCALENDAR
VERSION:2.0
PRODID:-//Michigan Humanities - ECPv6.15.20//NONSGML v1.0//EN
CALSCALE:GREGORIAN
METHOD:PUBLISH
X-ORIGINAL-URL:https://www.michiganhumanities.org
X-WR-CALDESC:Events for Michigan Humanities
REFRESH-INTERVAL;VALUE=DURATION:PT1H
X-Robots-Tag:noindex
X-PUBLISHED-TTL:PT1H
BEGIN:VTIMEZONE
TZID:America/Detroit
BEGIN:DAYLIGHT
TZOFFSETFROM:-0500
TZOFFSETTO:-0400
TZNAME:EDT
DTSTART:20240310T070000
END:DAYLIGHT
BEGIN:STANDARD
TZOFFSETFROM:-0400
TZOFFSETTO:-0500
TZNAME:EST
DTSTART:20241103T060000
END:STANDARD
BEGIN:DAYLIGHT
TZOFFSETFROM:-0500
TZOFFSETTO:-0400
TZNAME:EDT
DTSTART:20250309T070000
END:DAYLIGHT
BEGIN:STANDARD
TZOFFSETFROM:-0400
TZOFFSETTO:-0500
TZNAME:EST
DTSTART:20251102T060000
END:STANDARD
BEGIN:DAYLIGHT
TZOFFSETFROM:-0500
TZOFFSETTO:-0400
TZNAME:EDT
DTSTART:20260308T070000
END:DAYLIGHT
BEGIN:STANDARD
TZOFFSETFROM:-0400
TZOFFSETTO:-0500
TZNAME:EST
DTSTART:20261101T060000
END:STANDARD
END:VTIMEZONE
BEGIN:VEVENT
DTSTART;TZID=America/Detroit:20250618T100000
DTEND;TZID=America/Detroit:20250730T110000
DTSTAMP:20260423T104556
CREATED:20250605T144117Z
LAST-MODIFIED:20250605T144117Z
UID:244305-1750240800-1753873200@www.michiganhumanities.org
SUMMARY:Brighton Arts & Culture Commission Presents: Children's Summer Series
DESCRIPTION:The Children’s Summer Series\, presented by the Brighton Arts & Culture Commission\, is a free\, family-friendly event series that brings music\, magic\, theater\, and more to our outdoor amphitheater in downtown Brighton. Held on Wednesdays at 10 am\, starting June 18 and running through July 30\, this engaging series features a diverse lineup of talented performers who entertain and inspire young audiences with interactive\, high-energy shows. From live music and storytelling to dance and circus arts\, each event is designed to spark creativity\, laughter\, and fun for kids and families. \nThis event is partially funded by an Arts and Humanities Touring Grant.
URL:https://www.michiganhumanities.org/event/brighton-arts-culture-commission-presents-childrens-summer-series/
LOCATION:The Amp!\, 202 N. Main St.\, Brighton\, MI\, 48116\, United States
ATTACH;FMTTYPE=image/jpeg:https://www.michiganhumanities.org/wp-content/uploads/Brighton-Arts-and-Culture.jpg
END:VEVENT
BEGIN:VEVENT
DTSTART;TZID=America/Detroit:20250619T140000
DTEND;TZID=America/Detroit:20250619T150000
DTSTAMP:20260423T104556
CREATED:20250610T150932Z
LAST-MODIFIED:20250610T150932Z
UID:244376-1750341600-1750345200@www.michiganhumanities.org
SUMMARY:Drawing Comics/Manga Workshop with Mark Crilley!
DESCRIPTION:Kids 8 – 14 \n\n\nMark Crilley\, published professional American comic creator\, artist– and children’s book author & illustrator will host this workshop for kids on Comic & Manga Drawing! Mark is the creator of Akiko\, Miki Falls and Brody’s Ghost. Mark will share drawing techniques and tips\, for kids ages 8-14. Follow along\, step by step through at least four separate lessons over the course of one hour. Some lessons will be based on participant requests\, guaranteeing that you’ll learn about what interests you most! Perfect for fans of Manga\, Anime and graphic novels! Paper and pencils provided\, so there’s nothing you need to bring apart from your own enthusiasm for drawing! Mark Crilley is a Michigan native and author/ illustrator of more than 50 books and graphic novels! Learn more at his website markcrilley.com. \n\n\nThis event is FREE but does require registration. \nThis event is partially funded by an Arts and Humanities Grant.
URL:https://www.michiganhumanities.org/event/drawing-comics-manga-workshop-with-mark-crilley/
LOCATION:Grand Ledge Area District Library\, 131 E Jefferson St\, Grand Ledge\, Michigan\, 48837
ATTACH;FMTTYPE=image/jpeg:https://www.michiganhumanities.org/wp-content/uploads/Mark-crilley2.jpg
END:VEVENT
BEGIN:VEVENT
DTSTART;TZID=America/Detroit:20250619T180000
DTEND;TZID=America/Detroit:20250619T200000
DTSTAMP:20260423T104556
CREATED:20250610T150203Z
LAST-MODIFIED:20250610T150405Z
UID:244367-1750356000-1750363200@www.michiganhumanities.org
SUMMARY:Creative Drawing Workshop with Mark Crilley
DESCRIPTION:Ages 15+ \n\n\nMark Crilley\, a published professional comic creator\, artist– and children’s book author & illustrator will host this Creative Drawing workshop! Mark will share drawing techniques and tips for youth and adults ages 15+. Follow along\, step by step through at least four separate lessons over the course of one hour. What would you like to learn? Ask Mark– lessons will reflect participant requests\, guaranteeing that you’ll learn about what interests you most! Paper and pencils provided\, so there’s nothing you need to bring apart from your enthusiasm for drawing! Mark is a Michigan native and author/ illustrator of more than 50 books and graphic novels including Akiko\, Miki Falls and Brody’s Ghost! Learn more at his website markcrilley.com. \n\nThis event is FREE but does require registration.\n\nThis event is partially funded by an Arts and Humanities Grant.
URL:https://www.michiganhumanities.org/event/creative-drawing-workshop-with-mark-crilley/
LOCATION:Grand Ledge Area District Library\, 131 E Jefferson St\, Grand Ledge\, Michigan\, 48837
ATTACH;FMTTYPE=image/jpeg:https://www.michiganhumanities.org/wp-content/uploads/mark-crilley.jpg
END:VEVENT
BEGIN:VEVENT
DTSTART;TZID=America/Detroit:20250619T190000
DTEND;TZID=America/Detroit:20250619T210000
DTSTAMP:20260423T104556
CREATED:20250605T152534Z
LAST-MODIFIED:20250605T152653Z
UID:244329-1750359600-1750366800@www.michiganhumanities.org
SUMMARY:Hamburg Township Library - Summer Music Festival
DESCRIPTION:Join us for an evening of music and food at the Library. You can sit and relax or get up and dance in the aisles! Phase 5 Motown Tribute Band will bring the ‘Sounds of Motown’ to the Hamburg Township Library. There will be food\, beverage and desserts available from 5pm to 8pm. All vendors are local businesses. Food will be allowed outside and in the lobby only\, covered beverages will be allowed in the library. All concerts will be in the library and start at 7pm. Registration is required for seating purposes only. We accommodate seating for as many people as possible\, however seating is not guaranteed. All ages welcome! \nThis event is partially funded by an Arts and Humanities Touring Grant.
URL:https://www.michiganhumanities.org/event/hamburg-township-library-summer-music-festival/
LOCATION:Hamburg Township Library\, 10411 Merrill Road\, Hamburg\, Michigan\, 48139
ATTACH;FMTTYPE=image/jpeg:https://www.michiganhumanities.org/wp-content/uploads/Hamburg.jpg
END:VEVENT
END:VCALENDAR