BEGIN:VCALENDAR
VERSION:2.0
PRODID:-//Michigan Humanities - ECPv6.15.20//NONSGML v1.0//EN
CALSCALE:GREGORIAN
METHOD:PUBLISH
X-WR-CALNAME:Michigan Humanities
X-ORIGINAL-URL:https://www.michiganhumanities.org
X-WR-CALDESC:Events for Michigan Humanities
REFRESH-INTERVAL;VALUE=DURATION:PT1H
X-Robots-Tag:noindex
X-PUBLISHED-TTL:PT1H
BEGIN:VTIMEZONE
TZID:America/Detroit
BEGIN:DAYLIGHT
TZOFFSETFROM:-0500
TZOFFSETTO:-0400
TZNAME:EDT
DTSTART:20240310T070000
END:DAYLIGHT
BEGIN:STANDARD
TZOFFSETFROM:-0400
TZOFFSETTO:-0500
TZNAME:EST
DTSTART:20241103T060000
END:STANDARD
BEGIN:DAYLIGHT
TZOFFSETFROM:-0500
TZOFFSETTO:-0400
TZNAME:EDT
DTSTART:20250309T070000
END:DAYLIGHT
BEGIN:STANDARD
TZOFFSETFROM:-0400
TZOFFSETTO:-0500
TZNAME:EST
DTSTART:20251102T060000
END:STANDARD
BEGIN:DAYLIGHT
TZOFFSETFROM:-0500
TZOFFSETTO:-0400
TZNAME:EDT
DTSTART:20260308T070000
END:DAYLIGHT
BEGIN:STANDARD
TZOFFSETFROM:-0400
TZOFFSETTO:-0500
TZNAME:EST
DTSTART:20261101T060000
END:STANDARD
END:VTIMEZONE
BEGIN:VEVENT
DTSTART;TZID=America/Detroit:20250617T130000
DTEND;TZID=America/Detroit:20250617T140000
DTSTAMP:20260422T075109
CREATED:20250605T154645Z
LAST-MODIFIED:20250605T154645Z
UID:244338-1750165200-1750168800@www.michiganhumanities.org
SUMMARY:Summer Reading Kickoff: Puppet Show - Alex Thomas and Friends
DESCRIPTION:Alex Thomas and Friends will be doing a puppet show for the Hazel Park District Library on Tuesday\, June 17 at 1pm as our summer reading kickoff program. Their Puppet Show is an engaging and entertaining experience that brings puppets to life and invites audience members to participate in the performance. This show is for audiences of all ages who are ready to be captivated by the magic of puppetry. Meet a lively and lovable puppet character with a unique personality that will delight the audience from the moment they appear onstage. \nThe show is interactive; throughout the performance\, audience members are encouraged to engage with the puppet\, becoming an integral part of the story. They may be invited to help solve a problem\, participate in a puppet dance\, or even have a conversation with the puppet character. This element creates a sense of wonder and excitement\, as the audience becomes immersed in the puppet world. The show features a variety of entertaining and educational segments from comedic sketches to heartwarming stories. It is carefully crafted to entertain and inspire providing a joyful and memorable experience for all. \nThis event is partially funded by an Arts and Humanities Touring Grant.
URL:https://www.michiganhumanities.org/event/summer-reading-kickoff-puppet-show-alex-thomas-and-friends/
LOCATION:Hazel Park District Library\, 123 E 9 Mile Rd\, Hazel Park\, 48030\, United States
ATTACH;FMTTYPE=image/jpeg:https://www.michiganhumanities.org/wp-content/uploads/hazel-park.jpg
END:VEVENT
END:VCALENDAR