BEGIN:VCALENDAR
VERSION:2.0
PRODID:-//Michigan Humanities - ECPv6.15.20//NONSGML v1.0//EN
CALSCALE:GREGORIAN
METHOD:PUBLISH
X-ORIGINAL-URL:https://www.michiganhumanities.org
X-WR-CALDESC:Events for Michigan Humanities
REFRESH-INTERVAL;VALUE=DURATION:PT1H
X-Robots-Tag:noindex
X-PUBLISHED-TTL:PT1H
BEGIN:VTIMEZONE
TZID:America/Detroit
BEGIN:DAYLIGHT
TZOFFSETFROM:-0500
TZOFFSETTO:-0400
TZNAME:EDT
DTSTART:20240310T070000
END:DAYLIGHT
BEGIN:STANDARD
TZOFFSETFROM:-0400
TZOFFSETTO:-0500
TZNAME:EST
DTSTART:20241103T060000
END:STANDARD
BEGIN:DAYLIGHT
TZOFFSETFROM:-0500
TZOFFSETTO:-0400
TZNAME:EDT
DTSTART:20250309T070000
END:DAYLIGHT
BEGIN:STANDARD
TZOFFSETFROM:-0400
TZOFFSETTO:-0500
TZNAME:EST
DTSTART:20251102T060000
END:STANDARD
BEGIN:DAYLIGHT
TZOFFSETFROM:-0500
TZOFFSETTO:-0400
TZNAME:EDT
DTSTART:20260308T070000
END:DAYLIGHT
BEGIN:STANDARD
TZOFFSETFROM:-0400
TZOFFSETTO:-0500
TZNAME:EST
DTSTART:20261101T060000
END:STANDARD
END:VTIMEZONE
BEGIN:VEVENT
DTSTART;TZID=America/Detroit:20250607T110000
DTEND;TZID=America/Detroit:20250607T130000
DTSTAMP:20260422T110424
CREATED:20250605T144832Z
LAST-MODIFIED:20250605T144832Z
UID:244314-1749294000-1749301200@www.michiganhumanities.org
SUMMARY:Orion Township Library - Summer Reading Kickoff
DESCRIPTION:Celebrate the start of summer with our fun annual program outside at the library reading gardens. We’ll have blow-up obstacle courses\, strolling entertainment\, and fun activities hosted by local organizations along with two local food trucks (available for purchase). Register for summer reading during kickoff weekend for a chance to win a family prize pack to a Detroit Tigers game! \nThis event is partially funded by an Arts and Humanities Touring Grant.
URL:https://www.michiganhumanities.org/event/orion-township-library-summer-reading-kickoff/
LOCATION:Orion Township Library\, 825 Joslyn Rd\, Lake Orion\, Michigan\, 48362
ATTACH;FMTTYPE=image/jpeg:https://www.michiganhumanities.org/wp-content/uploads/Orion.jpg
END:VEVENT
END:VCALENDAR