BEGIN:VCALENDAR
VERSION:2.0
PRODID:-//Michigan Humanities - ECPv6.15.20//NONSGML v1.0//EN
CALSCALE:GREGORIAN
METHOD:PUBLISH
X-WR-CALNAME:Michigan Humanities
X-ORIGINAL-URL:https://www.michiganhumanities.org
X-WR-CALDESC:Events for Michigan Humanities
REFRESH-INTERVAL;VALUE=DURATION:PT1H
X-Robots-Tag:noindex
X-PUBLISHED-TTL:PT1H
BEGIN:VTIMEZONE
TZID:America/Detroit
BEGIN:DAYLIGHT
TZOFFSETFROM:-0500
TZOFFSETTO:-0400
TZNAME:EDT
DTSTART:20240310T070000
END:DAYLIGHT
BEGIN:STANDARD
TZOFFSETFROM:-0400
TZOFFSETTO:-0500
TZNAME:EST
DTSTART:20241103T060000
END:STANDARD
BEGIN:DAYLIGHT
TZOFFSETFROM:-0500
TZOFFSETTO:-0400
TZNAME:EDT
DTSTART:20250309T070000
END:DAYLIGHT
BEGIN:STANDARD
TZOFFSETFROM:-0400
TZOFFSETTO:-0500
TZNAME:EST
DTSTART:20251102T060000
END:STANDARD
BEGIN:DAYLIGHT
TZOFFSETFROM:-0500
TZOFFSETTO:-0400
TZNAME:EDT
DTSTART:20260308T070000
END:DAYLIGHT
BEGIN:STANDARD
TZOFFSETFROM:-0400
TZOFFSETTO:-0500
TZNAME:EST
DTSTART:20261101T060000
END:STANDARD
END:VTIMEZONE
BEGIN:VEVENT
DTSTART;TZID=America/Detroit:20250320T190000
DTEND;TZID=America/Detroit:20250320T203000
DTSTAMP:20260424T063420
CREATED:20250313T150955Z
LAST-MODIFIED:20250313T150955Z
UID:243864-1742497200-1742502600@www.michiganhumanities.org
SUMMARY:SC4 Free Concert Series Featuring Kimmie Horne
DESCRIPTION:Experience the magic of jazz with one unforgettable performance featuring Kimmie Horne. Kimmie Horne is an internationally acclaimed vocalist\, entertainer\, and brand influencer with a legacy deeply rooted in music royalty. A proud Detroit native\, she is the descendant of the legendary songstress and movie icon Lena Horne and the niece of Cleveland Horne of the celebrated Fantastic Four. Renowned for her sultry voice and warm stage presence\, Kimmie performs with blends of classic jazz\, soulful blues and vibrant energy that captivates. Her critically acclaimed CD High Standards features the standout single Black Coffee\, showcasing her ability to breathe fresh life into jazz classics while making them uniquely her own. Beyond her artistry\, Kimmie Horne is the visionary Founder and President of the award-winning Kimmie Horne Jazz Festival\, where she celebrates her passion for music and community. With a dynamic career spanning the globe\, Kimmie continues to inspire\, entertain\, and uplift audiences with her talent\, dedication and and dedication to the art of jazz.\n\nPerformance is scheduled from 7 p.m. to 8:30 p.m. in the SC4 Fine Arts Theatre. Seats are general admission\, and no reservations are needed. Doors open 15 minutes prior to showtime. \n\nThis event is partially funded by an Arts and Humanities Touring Grant.
URL:https://www.michiganhumanities.org/event/sc4-free-concert-series-featuring-kimmie-horne/
LOCATION:St. Clair County Community College Fine Arts Building\, 581 Erie St\, Port Huron\, Michigan\, 48060
ATTACH;FMTTYPE=image/jpeg:https://www.michiganhumanities.org/wp-content/uploads/481085398_1063543212486093_41966504429434224_n.jpg
END:VEVENT
END:VCALENDAR