BEGIN:VCALENDAR
VERSION:2.0
PRODID:-//Michigan Humanities - ECPv6.15.20//NONSGML v1.0//EN
CALSCALE:GREGORIAN
METHOD:PUBLISH
X-ORIGINAL-URL:https://www.michiganhumanities.org
X-WR-CALDESC:Events for Michigan Humanities
REFRESH-INTERVAL;VALUE=DURATION:PT1H
X-Robots-Tag:noindex
X-PUBLISHED-TTL:PT1H
BEGIN:VTIMEZONE
TZID:America/Detroit
BEGIN:DAYLIGHT
TZOFFSETFROM:-0500
TZOFFSETTO:-0400
TZNAME:EDT
DTSTART:20240310T070000
END:DAYLIGHT
BEGIN:STANDARD
TZOFFSETFROM:-0400
TZOFFSETTO:-0500
TZNAME:EST
DTSTART:20241103T060000
END:STANDARD
BEGIN:DAYLIGHT
TZOFFSETFROM:-0500
TZOFFSETTO:-0400
TZNAME:EDT
DTSTART:20250309T070000
END:DAYLIGHT
BEGIN:STANDARD
TZOFFSETFROM:-0400
TZOFFSETTO:-0500
TZNAME:EST
DTSTART:20251102T060000
END:STANDARD
BEGIN:DAYLIGHT
TZOFFSETFROM:-0500
TZOFFSETTO:-0400
TZNAME:EDT
DTSTART:20260308T070000
END:DAYLIGHT
BEGIN:STANDARD
TZOFFSETFROM:-0400
TZOFFSETTO:-0500
TZNAME:EST
DTSTART:20261101T060000
END:STANDARD
END:VTIMEZONE
BEGIN:VEVENT
DTSTART;TZID=America/Detroit:20250211T190000
DTEND;TZID=America/Detroit:20250211T210000
DTSTAMP:20260423T182420
CREATED:20250121T135533Z
LAST-MODIFIED:20250121T135533Z
UID:243604-1739300400-1739307600@www.michiganhumanities.org
SUMMARY:Oakland University: Where are all the Women?": Untold Experiences from the Holocaust
DESCRIPTION:The John and Annette Carter History Comes Alive Lecture Series presents “Where are all the Women?”: Untold Experiences from the Holocaust”. Join us for this insightful presentation from Katie Chaka Parks (Wayne State University and the Zekelman Holocaust Center.)
URL:https://www.michiganhumanities.org/event/oakland-university-where-are-all-the-women-untold-experiences-from-the-holocaust/
LOCATION:Banquet Room A\, Oakland Center\, Oakland University\, 312 Meadow Brook Rd.\, Rochester\, MI\, 48309\, United States
END:VEVENT
END:VCALENDAR