BEGIN:VCALENDAR
VERSION:2.0
PRODID:-//Michigan Humanities - ECPv6.15.20//NONSGML v1.0//EN
CALSCALE:GREGORIAN
METHOD:PUBLISH
X-WR-CALNAME:Michigan Humanities
X-ORIGINAL-URL:https://www.michiganhumanities.org
X-WR-CALDESC:Events for Michigan Humanities
REFRESH-INTERVAL;VALUE=DURATION:PT1H
X-Robots-Tag:noindex
X-PUBLISHED-TTL:PT1H
BEGIN:VTIMEZONE
TZID:America/Detroit
BEGIN:DAYLIGHT
TZOFFSETFROM:-0500
TZOFFSETTO:-0400
TZNAME:EDT
DTSTART:20240310T070000
END:DAYLIGHT
BEGIN:STANDARD
TZOFFSETFROM:-0400
TZOFFSETTO:-0500
TZNAME:EST
DTSTART:20241103T060000
END:STANDARD
BEGIN:DAYLIGHT
TZOFFSETFROM:-0500
TZOFFSETTO:-0400
TZNAME:EDT
DTSTART:20250309T070000
END:DAYLIGHT
BEGIN:STANDARD
TZOFFSETFROM:-0400
TZOFFSETTO:-0500
TZNAME:EST
DTSTART:20251102T060000
END:STANDARD
BEGIN:DAYLIGHT
TZOFFSETFROM:-0500
TZOFFSETTO:-0400
TZNAME:EDT
DTSTART:20260308T070000
END:DAYLIGHT
BEGIN:STANDARD
TZOFFSETFROM:-0400
TZOFFSETTO:-0500
TZNAME:EST
DTSTART:20261101T060000
END:STANDARD
END:VTIMEZONE
BEGIN:VEVENT
DTSTART;TZID=America/Detroit:20250202T170000
DTEND;TZID=America/Detroit:20250202T190000
DTSTAMP:20260423T182333
CREATED:20241216T202101Z
LAST-MODIFIED:20241216T202101Z
UID:243553-1738515600-1738522800@www.michiganhumanities.org
SUMMARY:Grand Valley Piano Chamber Series: To Be Dvorak
DESCRIPTION:Please join us on our journey to discover the Czech composer Antonín Dvořák.  After Brahms helped him to launch his career\, Dvořák influenced not only other Czech composers such as Janácek and Suk\, but also American composers including Goldmark and Burleigh. We will explore the timeless beauty of Dvořák’s music through selected works by these composers and others including Schubert\, whom he greatly admired. Thank you for being part of the GVPCS family and sharing our mission to spread the joy and beauty of music!The exquisite chamber music writing from these composers will leave you enchanted!
URL:https://www.michiganhumanities.org/event/grand-valley-piano-chamber-series-to-be-dvorak/
LOCATION:St. Mark’s Episcopal Church\, 134 Division Ave N\, Grand Rapids\, MI\, 49503\, United States
ATTACH;FMTTYPE=image/png:https://www.michiganhumanities.org/wp-content/uploads/TouringGrantsLogo-24-2.png
END:VEVENT
END:VCALENDAR