BEGIN:VCALENDAR
VERSION:2.0
PRODID:-//Michigan Humanities - ECPv6.15.20//NONSGML v1.0//EN
CALSCALE:GREGORIAN
METHOD:PUBLISH
X-ORIGINAL-URL:https://www.michiganhumanities.org
X-WR-CALDESC:Events for Michigan Humanities
REFRESH-INTERVAL;VALUE=DURATION:PT1H
X-Robots-Tag:noindex
X-PUBLISHED-TTL:PT1H
BEGIN:VTIMEZONE
TZID:America/Detroit
BEGIN:DAYLIGHT
TZOFFSETFROM:-0500
TZOFFSETTO:-0400
TZNAME:EDT
DTSTART:20230312T070000
END:DAYLIGHT
BEGIN:STANDARD
TZOFFSETFROM:-0400
TZOFFSETTO:-0500
TZNAME:EST
DTSTART:20231105T060000
END:STANDARD
BEGIN:DAYLIGHT
TZOFFSETFROM:-0500
TZOFFSETTO:-0400
TZNAME:EDT
DTSTART:20240310T070000
END:DAYLIGHT
BEGIN:STANDARD
TZOFFSETFROM:-0400
TZOFFSETTO:-0500
TZNAME:EST
DTSTART:20241103T060000
END:STANDARD
BEGIN:DAYLIGHT
TZOFFSETFROM:-0500
TZOFFSETTO:-0400
TZNAME:EDT
DTSTART:20250309T070000
END:DAYLIGHT
BEGIN:STANDARD
TZOFFSETFROM:-0400
TZOFFSETTO:-0500
TZNAME:EST
DTSTART:20251102T060000
END:STANDARD
END:VTIMEZONE
BEGIN:VEVENT
DTSTART;TZID=America/Detroit:20240229T173000
DTEND;TZID=America/Detroit:20240229T190000
DTSTAMP:20260425T145720
CREATED:20240221T191835Z
LAST-MODIFIED:20240227T173336Z
UID:242201-1709227800-1709233200@www.michiganhumanities.org
SUMMARY:Ziibiwing Medicine Wheel Teaching & Craft
DESCRIPTION:Make a megis shell necklace and learn about the medicine wheel. The medicine wheel promotes harmony and balance in our lives. It represents how the Anishinabek see the world as a circle in which everything on this Earth has its place. Learn about the Anishinabe Medicine Wheel\, its components\, and teachings associated with its significance. This Great Michigan Read program is for all ages. \nTo register\, contact: sreinhardt@saginawlibrary.org or call 989-799-9160. \nFunding for the Great Michigan Read program is provided by Michigan Humanities. Any views\, findings\, conclusions or recommendations expressed in this program do not necessarily represent those of Michigan Humanities or the aforementioned entities.
URL:https://www.michiganhumanities.org/event/ziibiwing-medicine-wheel-teaching-craft/
LOCATION:Butman-Fish Branch Library\, 1716 Hancock St\, Saginaw\, MI\, 48602\, United States
END:VEVENT
BEGIN:VEVENT
DTSTART;TZID=America/Detroit:20240229T183000
DTEND;TZID=America/Detroit:20240229T200000
DTSTAMP:20260425T145720
CREATED:20240227T202716Z
LAST-MODIFIED:20240227T203015Z
UID:242344-1709231400-1709236800@www.michiganhumanities.org
SUMMARY:Follow the Silk Road: Mesopotamia to Michigan
DESCRIPTION:Part of a year-long initiative to share the Chaldean Story\, this forum will explore the roots of the Chaldean entrepreneurial spirit. The event will feature a distinguished panel of entrepreneurs who will share personal stories about the generational influence on their own success.  Adhid Miri\, PhD will provide a historical context and Chaldean News Editor in Chief\, Sarah Kittle will moderate the event. There is no cost to attend\, please register below for a chance to win a limited edition “Made in Nineveh” gift box. \nFunding for the Great Michigan Stories program is provided by Michigan Humanities. Any views\, findings\, conclusions or recommendations expressed in this program do not necessarily represent those of Michigan Humanities or the aforementioned entities.
URL:https://www.michiganhumanities.org/event/follow-the-silk-road-mesopotamia-to-michigan/
LOCATION:Shenandoah Country Club\, 5600 Walnut Lake Rd\, West Bloomfield Township\, MI\, 48323
ATTACH;FMTTYPE=image/png:https://www.michiganhumanities.org/wp-content/uploads/CNstory50yearsofMIHumanities-e1709065727689.png
END:VEVENT
END:VCALENDAR