BEGIN:VCALENDAR
VERSION:2.0
PRODID:-//Michigan Humanities - ECPv6.15.20//NONSGML v1.0//EN
CALSCALE:GREGORIAN
METHOD:PUBLISH
X-ORIGINAL-URL:https://www.michiganhumanities.org
X-WR-CALDESC:Events for Michigan Humanities
REFRESH-INTERVAL;VALUE=DURATION:PT1H
X-Robots-Tag:noindex
X-PUBLISHED-TTL:PT1H
BEGIN:VTIMEZONE
TZID:America/Detroit
BEGIN:DAYLIGHT
TZOFFSETFROM:-0500
TZOFFSETTO:-0400
TZNAME:EDT
DTSTART:20230312T070000
END:DAYLIGHT
BEGIN:STANDARD
TZOFFSETFROM:-0400
TZOFFSETTO:-0500
TZNAME:EST
DTSTART:20231105T060000
END:STANDARD
BEGIN:DAYLIGHT
TZOFFSETFROM:-0500
TZOFFSETTO:-0400
TZNAME:EDT
DTSTART:20240310T070000
END:DAYLIGHT
BEGIN:STANDARD
TZOFFSETFROM:-0400
TZOFFSETTO:-0500
TZNAME:EST
DTSTART:20241103T060000
END:STANDARD
BEGIN:DAYLIGHT
TZOFFSETFROM:-0500
TZOFFSETTO:-0400
TZNAME:EDT
DTSTART:20250309T070000
END:DAYLIGHT
BEGIN:STANDARD
TZOFFSETFROM:-0400
TZOFFSETTO:-0500
TZNAME:EST
DTSTART:20251102T060000
END:STANDARD
END:VTIMEZONE
BEGIN:VEVENT
DTSTART;TZID=America/Detroit:20240129T190000
DTEND;TZID=America/Detroit:20240129T200000
DTSTAMP:20260425T083554
CREATED:20231130T161008Z
LAST-MODIFIED:20231130T161928Z
UID:241869-1706554800-1706558400@www.michiganhumanities.org
SUMMARY:Beyond the Book with Wayne Hardwick
DESCRIPTION:Sault Ste. Marie Chippewa tribe member\, Eagle Staff Carrier\, and Indigenous Voices partner Wayne Hardwick will share his culture and experiences to expand our understanding of many of the important themes that come up in Firekeeper’s Daughter. Join us at the Troy Historic Village for a presentation and informal question and answer time.
URL:https://www.michiganhumanities.org/event/beyond-the-book-with-wayne-hardwick/
LOCATION:Troy Historic Village\, 60 W. Wattles Road\, Troy\, MI\, 48098
ATTACH;FMTTYPE=image/jpeg:https://www.michiganhumanities.org/wp-content/uploads/GMR_January-29_Wayne-Hardwick-300x300-1.jpg
END:VEVENT
END:VCALENDAR