BEGIN:VCALENDAR
VERSION:2.0
PRODID:-//Michigan Humanities - ECPv6.15.20//NONSGML v1.0//EN
CALSCALE:GREGORIAN
METHOD:PUBLISH
X-ORIGINAL-URL:https://www.michiganhumanities.org
X-WR-CALDESC:Events for Michigan Humanities
REFRESH-INTERVAL;VALUE=DURATION:PT1H
X-Robots-Tag:noindex
X-PUBLISHED-TTL:PT1H
BEGIN:VTIMEZONE
TZID:America/Detroit
BEGIN:DAYLIGHT
TZOFFSETFROM:-0500
TZOFFSETTO:-0400
TZNAME:EDT
DTSTART:20230312T070000
END:DAYLIGHT
BEGIN:STANDARD
TZOFFSETFROM:-0400
TZOFFSETTO:-0500
TZNAME:EST
DTSTART:20231105T060000
END:STANDARD
BEGIN:DAYLIGHT
TZOFFSETFROM:-0500
TZOFFSETTO:-0400
TZNAME:EDT
DTSTART:20240310T070000
END:DAYLIGHT
BEGIN:STANDARD
TZOFFSETFROM:-0400
TZOFFSETTO:-0500
TZNAME:EST
DTSTART:20241103T060000
END:STANDARD
BEGIN:DAYLIGHT
TZOFFSETFROM:-0500
TZOFFSETTO:-0400
TZNAME:EDT
DTSTART:20250309T070000
END:DAYLIGHT
BEGIN:STANDARD
TZOFFSETFROM:-0400
TZOFFSETTO:-0500
TZNAME:EST
DTSTART:20251102T060000
END:STANDARD
END:VTIMEZONE
BEGIN:VEVENT
DTSTART;TZID=America/Detroit:20240125T180000
DTEND;TZID=America/Detroit:20240125T193000
DTSTAMP:20260423T130720
CREATED:20231204T200212Z
LAST-MODIFIED:20231204T200212Z
UID:241916-1706205600-1706211000@www.michiganhumanities.org
SUMMARY:Reg Pettibone's Authentic Native American Program
DESCRIPTION:In concert with the Great Michigan Read “The Firekeeper’s Daughter” by Angeline Boulley\, Next is coordinating several enriching and education programs\, food and craft classes\, cultural entertainment program and day trips to venues where we can learn more about Indigenous people and the culture from January – April\, 2024. On Thursday\, January 25 at 6 pm\, Next will host Reg Pettibone’s Authentic Native American Program also featuring Marca Pettibone with the Indigenous Women’s Ceremonial and Healing Dress. This program has received rave reviews and we are so excited to have Reg and Marca Pettibone visit Next. Reg Pettibone\, a full-blooded native American and champion pow-wow dancer of the Ho-Chunk nation and his wife will present a true understanding of Native American culture through dance\, song and stories. \nFunding for this program was provided by Michigan Humanities – Arts and Humanities Touring Grant. Any views\, findings\, conclusions or recommendations expressed in this program do not necessarily represent those of Michigan Humanities or the aforementioned entities.
URL:https://www.michiganhumanities.org/event/reg-pettibones-authentic-native-american-program/
LOCATION:Birmingham Next\, 2121 Midvale Street\, Birmingham\, MI\, 48009-1509
ATTACH;FMTTYPE=image/jpeg:https://www.michiganhumanities.org/wp-content/uploads/logo.jpg
END:VEVENT
END:VCALENDAR