BEGIN:VCALENDAR
VERSION:2.0
PRODID:-//Michigan Humanities - ECPv6.15.20//NONSGML v1.0//EN
CALSCALE:GREGORIAN
METHOD:PUBLISH
X-ORIGINAL-URL:https://www.michiganhumanities.org
X-WR-CALDESC:Events for Michigan Humanities
REFRESH-INTERVAL;VALUE=DURATION:PT1H
X-Robots-Tag:noindex
X-PUBLISHED-TTL:PT1H
BEGIN:VTIMEZONE
TZID:America/Detroit
BEGIN:DAYLIGHT
TZOFFSETFROM:-0500
TZOFFSETTO:-0400
TZNAME:EDT
DTSTART:20220313T070000
END:DAYLIGHT
BEGIN:STANDARD
TZOFFSETFROM:-0400
TZOFFSETTO:-0500
TZNAME:EST
DTSTART:20221106T060000
END:STANDARD
BEGIN:DAYLIGHT
TZOFFSETFROM:-0500
TZOFFSETTO:-0400
TZNAME:EDT
DTSTART:20230312T070000
END:DAYLIGHT
BEGIN:STANDARD
TZOFFSETFROM:-0400
TZOFFSETTO:-0500
TZNAME:EST
DTSTART:20231105T060000
END:STANDARD
BEGIN:DAYLIGHT
TZOFFSETFROM:-0500
TZOFFSETTO:-0400
TZNAME:EDT
DTSTART:20240310T070000
END:DAYLIGHT
BEGIN:STANDARD
TZOFFSETFROM:-0400
TZOFFSETTO:-0500
TZNAME:EST
DTSTART:20241103T060000
END:STANDARD
END:VTIMEZONE
BEGIN:VEVENT
DTSTART;TZID=America/Detroit:20230826T090000
DTEND;TZID=America/Detroit:20230827T170000
DTSTAMP:20260420T194921
CREATED:20230530T191059Z
LAST-MODIFIED:20230615T153147Z
UID:240795-1693040400-1693155600@www.michiganhumanities.org
SUMMARY:Jackson Civil War Muster
DESCRIPTION:The Jackson Civil War Muster is the largest\, longest-running Civil War event in the Midwest\, welcoming people of all ages. Each year this weekend draws 25\,000 to 30\,000 from throughout Michigan\, Canada\, and destinations as far as Sweden. The event encourages visitors to interact with living historians by stepping back in time into the village of Jacksonburg\, and to experience the extravagant military ball\, as well as witness the excitement of two battles. Last year\, the event featured the music of Camp Chase Fife & Drum Core and the United States Christian Commission period Coffee Wagon\, both of which will be returning in 2023! \nFunding for this program was provided by Michigan Humanities – Bridging Michigan Grant. Any views\, findings\, conclusions or recommendations expressed in this program do not necessarily represent those of Michigan Humanities or the aforementioned entities.
URL:https://www.michiganhumanities.org/event/jackson-civil-war-muster/
LOCATION:Cascades Falls Park\, 1401 S Brown St\, Jackson\, Michigan\, 49203
ATTACH;FMTTYPE=image/jpeg:https://www.michiganhumanities.org/wp-content/uploads/276298790_5322379714440101_3096666392675483083_n-3.jpg
END:VEVENT
END:VCALENDAR