BEGIN:VCALENDAR
VERSION:2.0
PRODID:-//Michigan Humanities - ECPv6.15.20//NONSGML v1.0//EN
CALSCALE:GREGORIAN
METHOD:PUBLISH
X-WR-CALNAME:Michigan Humanities
X-ORIGINAL-URL:https://www.michiganhumanities.org
X-WR-CALDESC:Events for Michigan Humanities
REFRESH-INTERVAL;VALUE=DURATION:PT1H
X-Robots-Tag:noindex
X-PUBLISHED-TTL:PT1H
BEGIN:VTIMEZONE
TZID:America/Detroit
BEGIN:DAYLIGHT
TZOFFSETFROM:-0500
TZOFFSETTO:-0400
TZNAME:EDT
DTSTART:20220313T070000
END:DAYLIGHT
BEGIN:STANDARD
TZOFFSETFROM:-0400
TZOFFSETTO:-0500
TZNAME:EST
DTSTART:20221106T060000
END:STANDARD
BEGIN:DAYLIGHT
TZOFFSETFROM:-0500
TZOFFSETTO:-0400
TZNAME:EDT
DTSTART:20230312T070000
END:DAYLIGHT
BEGIN:STANDARD
TZOFFSETFROM:-0400
TZOFFSETTO:-0500
TZNAME:EST
DTSTART:20231105T060000
END:STANDARD
BEGIN:DAYLIGHT
TZOFFSETFROM:-0500
TZOFFSETTO:-0400
TZNAME:EDT
DTSTART:20240310T070000
END:DAYLIGHT
BEGIN:STANDARD
TZOFFSETFROM:-0400
TZOFFSETTO:-0500
TZNAME:EST
DTSTART:20241103T060000
END:STANDARD
END:VTIMEZONE
BEGIN:VEVENT
DTSTART;TZID=America/Detroit:20230816T170000
DTEND;TZID=America/Detroit:20230816T180000
DTSTAMP:20260420T233017
CREATED:20230531T153930Z
LAST-MODIFIED:20230601T145648Z
UID:240813-1692205200-1692208800@www.michiganhumanities.org
SUMMARY:The League of Extraordinary Gentlewomen
DESCRIPTION:Join Three Rivers Public Library for a celebration of the local women that helped influence the next generation of women to become physicians\, lawyers\, professors\, and activist ecologists! Sign up is recommended\, contact TRPL at 269-273-8666 or go to https://www.eventbrite.com/o/three-rivers-public-library-15891595896 \n\n\n\nThis program is hosted by Three Rivers Public Library in partnership with the Smithsonian’s Spark! Places of Innovation exhibition. Any views\, findings\, conclusions\, or recommendations expressed in this program do not necessarily represent those of Michigan Humanities or the aforementioned entities.
URL:https://www.michiganhumanities.org/event/the-league-of-extraordinary-gentlewomen/
LOCATION:Three Rivers Public Library\, 88 N Main St\, Three Rivers\, Michigan\, 49093
END:VEVENT
END:VCALENDAR