BEGIN:VCALENDAR
VERSION:2.0
PRODID:-//Michigan Humanities - ECPv6.15.20//NONSGML v1.0//EN
CALSCALE:GREGORIAN
METHOD:PUBLISH
X-ORIGINAL-URL:https://www.michiganhumanities.org
X-WR-CALDESC:Events for Michigan Humanities
REFRESH-INTERVAL;VALUE=DURATION:PT1H
X-Robots-Tag:noindex
X-PUBLISHED-TTL:PT1H
BEGIN:VTIMEZONE
TZID:America/Detroit
BEGIN:DAYLIGHT
TZOFFSETFROM:-0500
TZOFFSETTO:-0400
TZNAME:EDT
DTSTART:20220313T070000
END:DAYLIGHT
BEGIN:STANDARD
TZOFFSETFROM:-0400
TZOFFSETTO:-0500
TZNAME:EST
DTSTART:20221106T060000
END:STANDARD
BEGIN:DAYLIGHT
TZOFFSETFROM:-0500
TZOFFSETTO:-0400
TZNAME:EDT
DTSTART:20230312T070000
END:DAYLIGHT
BEGIN:STANDARD
TZOFFSETFROM:-0400
TZOFFSETTO:-0500
TZNAME:EST
DTSTART:20231105T060000
END:STANDARD
BEGIN:DAYLIGHT
TZOFFSETFROM:-0500
TZOFFSETTO:-0400
TZNAME:EDT
DTSTART:20240310T070000
END:DAYLIGHT
BEGIN:STANDARD
TZOFFSETFROM:-0400
TZOFFSETTO:-0500
TZNAME:EST
DTSTART:20241103T060000
END:STANDARD
END:VTIMEZONE
BEGIN:VEVENT
DTSTART;TZID=America/Detroit:20230806T160000
DTEND;TZID=America/Detroit:20230806T173000
DTSTAMP:20260420T132925
CREATED:20230525T192357Z
LAST-MODIFIED:20230525T192357Z
UID:240765-1691337600-1691343000@www.michiganhumanities.org
SUMMARY:Live From the Carriage Barn Stage featuring The Hackwells
DESCRIPTION:Join the Sanilac County Historic Village and Museum for the 2nd annual concert series! The Hackwells are an Americana/folk/country band. Each member of the band writes and sings lead. They sing about prison graveyards\, flea market beauty queens\, and other people’s faults. They’re known for alternative country music\, delivered with a bit of swagger. \n\nFunding for this program was provided by Michigan Humanities –Arts and Humanities Touring Grant. Any views\, findings\, conclusions or recommendations expressed in this program do not necessarily represent those of Michigan Humanities or the aforementioned entities. \n\n 
URL:https://www.michiganhumanities.org/event/live-from-the-carriage-barn-stage-featuring-the-hackwells/
LOCATION:Sanilac County Historic Village & Museum\, 228 S. Ridge St.\, Port Sanilac\, MI\, 48469\, United States
END:VEVENT
END:VCALENDAR