BEGIN:VCALENDAR
VERSION:2.0
PRODID:-//Michigan Humanities - ECPv6.15.20//NONSGML v1.0//EN
CALSCALE:GREGORIAN
METHOD:PUBLISH
X-ORIGINAL-URL:https://www.michiganhumanities.org
X-WR-CALDESC:Events for Michigan Humanities
REFRESH-INTERVAL;VALUE=DURATION:PT1H
X-Robots-Tag:noindex
X-PUBLISHED-TTL:PT1H
BEGIN:VTIMEZONE
TZID:America/Detroit
BEGIN:DAYLIGHT
TZOFFSETFROM:-0500
TZOFFSETTO:-0400
TZNAME:EDT
DTSTART:20220313T070000
END:DAYLIGHT
BEGIN:STANDARD
TZOFFSETFROM:-0400
TZOFFSETTO:-0500
TZNAME:EST
DTSTART:20221106T060000
END:STANDARD
BEGIN:DAYLIGHT
TZOFFSETFROM:-0500
TZOFFSETTO:-0400
TZNAME:EDT
DTSTART:20230312T070000
END:DAYLIGHT
BEGIN:STANDARD
TZOFFSETFROM:-0400
TZOFFSETTO:-0500
TZNAME:EST
DTSTART:20231105T060000
END:STANDARD
BEGIN:DAYLIGHT
TZOFFSETFROM:-0500
TZOFFSETTO:-0400
TZNAME:EDT
DTSTART:20240310T070000
END:DAYLIGHT
BEGIN:STANDARD
TZOFFSETFROM:-0400
TZOFFSETTO:-0500
TZNAME:EST
DTSTART:20241103T060000
END:STANDARD
END:VTIMEZONE
BEGIN:VEVENT
DTSTART;TZID=America/Detroit:20230805T180000
DTEND;TZID=America/Detroit:20230805T210000
DTSTAMP:20260420T164938
CREATED:20230525T143240Z
LAST-MODIFIED:20230620T170406Z
UID:240736-1691258400-1691269200@www.michiganhumanities.org
SUMMARY:ASR Cruisin' Through the Decades: Live Music: 80s - Miranda and the M80s
DESCRIPTION:Join the Hamburg Township Library for the Adult Summer Reading ‘Cruisin’ Through the Decades: 60s\, 70s & 80s’ Live Music Concert Series.  In June there will be music of the 60s\, in July music of the 70s and in August the music of the 80s.  This is an outdoor concert that will take place by the Library in the park area by the pavilion. Bring a friend!  Bring a blanket or settle in on your own lawn chair and listen to some great music from the 1960s.  Bring your own Carry-Out and enjoy the fun! Tacos El Mariachi Loco Food Truck will be at this event. \nEnjoy the music of the 1980s with ‘Miranda and the M80s’.  The band is out of the Lansing area is looking forward to coming down our way. \nFunding for this program was provided by Michigan Humanities – Arts and Humanities Touring Grant. Any views\, findings\, conclusions or recommendations expressed in this program do not necessarily represent those of Michigan Humanities or the aforementioned entities.
URL:https://www.michiganhumanities.org/event/asr-cruisin-through-the-decades-live-music-80s-miranda-and-the-m80s/
LOCATION:Hamburg Township Library\, 10411 Merrill Road\, Hamburg\, Michigan\, 48139
ATTACH;FMTTYPE=image/jpeg:https://www.michiganhumanities.org/wp-content/uploads/348918680_204438529092067_6288731761031033632_n.jpg
END:VEVENT
END:VCALENDAR