BEGIN:VCALENDAR
VERSION:2.0
PRODID:-//Michigan Humanities - ECPv6.15.20//NONSGML v1.0//EN
CALSCALE:GREGORIAN
METHOD:PUBLISH
X-ORIGINAL-URL:https://www.michiganhumanities.org
X-WR-CALDESC:Events for Michigan Humanities
REFRESH-INTERVAL;VALUE=DURATION:PT1H
X-Robots-Tag:noindex
X-PUBLISHED-TTL:PT1H
BEGIN:VTIMEZONE
TZID:America/Detroit
BEGIN:DAYLIGHT
TZOFFSETFROM:-0500
TZOFFSETTO:-0400
TZNAME:EDT
DTSTART:20220313T070000
END:DAYLIGHT
BEGIN:STANDARD
TZOFFSETFROM:-0400
TZOFFSETTO:-0500
TZNAME:EST
DTSTART:20221106T060000
END:STANDARD
BEGIN:DAYLIGHT
TZOFFSETFROM:-0500
TZOFFSETTO:-0400
TZNAME:EDT
DTSTART:20230312T070000
END:DAYLIGHT
BEGIN:STANDARD
TZOFFSETFROM:-0400
TZOFFSETTO:-0500
TZNAME:EST
DTSTART:20231105T060000
END:STANDARD
BEGIN:DAYLIGHT
TZOFFSETFROM:-0500
TZOFFSETTO:-0400
TZNAME:EDT
DTSTART:20240310T070000
END:DAYLIGHT
BEGIN:STANDARD
TZOFFSETFROM:-0400
TZOFFSETTO:-0500
TZNAME:EST
DTSTART:20241103T060000
END:STANDARD
END:VTIMEZONE
BEGIN:VEVENT
DTSTART;TZID=America/Detroit:20230803T183000
DTEND;TZID=America/Detroit:20230803T203000
DTSTAMP:20260420T204723
CREATED:20230523T184918Z
LAST-MODIFIED:20230620T151823Z
UID:240715-1691087400-1691094600@www.michiganhumanities.org
SUMMARY:Motown Eagles Tribute Band Concert
DESCRIPTION:Motown Eagles\, Detroit’s premier Eagles tribute band since 2016\, performs the iconic hits of the Eagles. Join Orion Township Library as they share the timeless music of the Eagles outside on the library’s back lawn. In case of rain\, the concert will be moved indoors. \n\nFunding for this program was provided by Michigan Humanities –Arts and Humanities Touring Grant. Any views\, findings\, conclusions or recommendations expressed in this program do not necessarily represent those of Michigan Humanities or the aforementioned entities.
URL:https://www.michiganhumanities.org/event/motown-eagles-tribute-band-concert/
LOCATION:Orion Township Library\, 825 Joslyn Rd\, Lake Orion\, Michigan\, 48362
ATTACH;FMTTYPE=image/jpeg:https://www.michiganhumanities.org/wp-content/uploads/motown-Eagles-2.jpg
END:VEVENT
END:VCALENDAR