BEGIN:VCALENDAR
VERSION:2.0
PRODID:-//Michigan Humanities - ECPv6.15.20//NONSGML v1.0//EN
CALSCALE:GREGORIAN
METHOD:PUBLISH
X-WR-CALNAME:Michigan Humanities
X-ORIGINAL-URL:https://www.michiganhumanities.org
X-WR-CALDESC:Events for Michigan Humanities
REFRESH-INTERVAL;VALUE=DURATION:PT1H
X-Robots-Tag:noindex
X-PUBLISHED-TTL:PT1H
BEGIN:VTIMEZONE
TZID:America/Detroit
BEGIN:DAYLIGHT
TZOFFSETFROM:-0500
TZOFFSETTO:-0400
TZNAME:EDT
DTSTART:20220313T070000
END:DAYLIGHT
BEGIN:STANDARD
TZOFFSETFROM:-0400
TZOFFSETTO:-0500
TZNAME:EST
DTSTART:20221106T060000
END:STANDARD
BEGIN:DAYLIGHT
TZOFFSETFROM:-0500
TZOFFSETTO:-0400
TZNAME:EDT
DTSTART:20230312T070000
END:DAYLIGHT
BEGIN:STANDARD
TZOFFSETFROM:-0400
TZOFFSETTO:-0500
TZNAME:EST
DTSTART:20231105T060000
END:STANDARD
BEGIN:DAYLIGHT
TZOFFSETFROM:-0500
TZOFFSETTO:-0400
TZNAME:EDT
DTSTART:20240310T070000
END:DAYLIGHT
BEGIN:STANDARD
TZOFFSETFROM:-0400
TZOFFSETTO:-0500
TZNAME:EST
DTSTART:20241103T060000
END:STANDARD
END:VTIMEZONE
BEGIN:VEVENT
DTSTART;TZID=America/Detroit:20230801T180000
DTEND;TZID=America/Detroit:20230801T190000
DTSTAMP:20260420T232947
CREATED:20230531T153718Z
LAST-MODIFIED:20230601T145615Z
UID:240811-1690912800-1690916400@www.michiganhumanities.org
SUMMARY:WNIT Movie: Then\, Now\, and Always... The St. Joseph River Story
DESCRIPTION:Discover the St. Joseph River with Three Rivers Public Library! Snacks provided.\nSign up is recommended\, contact TRPL at 269-273-8666 or go to https://www.eventbrite.com/o/three-rivers-public-library-15891595896\n\n\n\nThis program is hosted by Three Rivers Public Library in partnership with the Smithsonian’s Spark! Places of Innovation exhibition. Any views\, findings\, conclusions\, or recommendations expressed in this program do not necessarily represent those of Michigan Humanities or the aforementioned entities.
URL:https://www.michiganhumanities.org/event/wnit-movie-then-now-and-always-the-st-joseph-river-story/
LOCATION:Three Rivers Public Library\, 88 N Main St\, Three Rivers\, Michigan\, 49093
END:VEVENT
END:VCALENDAR