BEGIN:VCALENDAR
VERSION:2.0
PRODID:-//Michigan Humanities - ECPv6.15.20//NONSGML v1.0//EN
CALSCALE:GREGORIAN
METHOD:PUBLISH
X-ORIGINAL-URL:https://www.michiganhumanities.org
X-WR-CALDESC:Events for Michigan Humanities
REFRESH-INTERVAL;VALUE=DURATION:PT1H
X-Robots-Tag:noindex
X-PUBLISHED-TTL:PT1H
BEGIN:VTIMEZONE
TZID:America/Detroit
BEGIN:DAYLIGHT
TZOFFSETFROM:-0500
TZOFFSETTO:-0400
TZNAME:EDT
DTSTART:20220313T070000
END:DAYLIGHT
BEGIN:STANDARD
TZOFFSETFROM:-0400
TZOFFSETTO:-0500
TZNAME:EST
DTSTART:20221106T060000
END:STANDARD
BEGIN:DAYLIGHT
TZOFFSETFROM:-0500
TZOFFSETTO:-0400
TZNAME:EDT
DTSTART:20230312T070000
END:DAYLIGHT
BEGIN:STANDARD
TZOFFSETFROM:-0400
TZOFFSETTO:-0500
TZNAME:EST
DTSTART:20231105T060000
END:STANDARD
BEGIN:DAYLIGHT
TZOFFSETFROM:-0500
TZOFFSETTO:-0400
TZNAME:EDT
DTSTART:20240310T070000
END:DAYLIGHT
BEGIN:STANDARD
TZOFFSETFROM:-0400
TZOFFSETTO:-0500
TZNAME:EST
DTSTART:20241103T060000
END:STANDARD
END:VTIMEZONE
BEGIN:VEVENT
DTSTART;TZID=America/Detroit:20230729T130000
DTEND;TZID=America/Detroit:20230729T140000
DTSTAMP:20260420T181252
CREATED:20230523T125712Z
LAST-MODIFIED:20230523T125712Z
UID:240701-1690635600-1690639200@www.michiganhumanities.org
SUMMARY:Portage Lake Summer Reading Program - Jen Strauss
DESCRIPTION:Join Story Artist\, Jen Strauss as the Portage Lake District Library Sings Their Way through Stories\, Tell Our Way through Songs\, and Play Our Way through Story Games where everyone belongs! 2023 will be Jen’s 30th year of creating Library Programs for children\, teens & adults using the National Summer Reading theme. A former teacher\, Jen discovered the power of story to motivate and inspire her students. In 1993\, she created her business\, Story Be Told and has been enriching over 300 audiences a year with her own unique brand of energy-injected performances\, workshops\,\ntrainings and keynote.
URL:https://www.michiganhumanities.org/event/portage-lake-summer-reading-program-jen-strauss/
LOCATION:Portage Lake District Library\, 58 Huron St.\, Houghton\, MI\, 49931\, United States
END:VEVENT
BEGIN:VEVENT
DTSTART;TZID=America/Detroit:20230729T190000
DTEND;TZID=America/Detroit:20230729T200000
DTSTAMP:20260420T181252
CREATED:20230523T183755Z
LAST-MODIFIED:20230615T151255Z
UID:240706-1690657200-1690660800@www.michiganhumanities.org
SUMMARY:Song of the Lakes
DESCRIPTION:Song of the Lakes is a band not afraid to show their emotions as they belt out sea shanties\, seduce you with a sultry Brazilian melody\, or break your heart with a bittersweet ballad. The band made itself a name with sea shanties and Irish melodies in the early 1980s\, but their range has widened in the 40-year span the band has been together. They’ve delved into acoustic rock\, Latin\, jazz\, and what they call Great Lakes World Music. No matter what you decide to call the band’s music\, you’ll love the revival quality that runs through all the songs. Their music is uplifting and transcending. It will take you to a different place\, and you’re probably going to want to stay there. The band members – Lisa\, Mike and Ingemar – live the good life and sing the praises of the gorgeous Great Lakes. The band has six recordings to its credit\, all with a tasteful mix of original and traditional songs. \n\n\n\nFunding for this program was provided by Michigan Humanities – Arts and Humanities Touring Grant. Any views\, findings\, conclusions or recommendations expressed in this program do not necessarily represent those of Michigan Humanities or the aforementioned entities.
URL:https://www.michiganhumanities.org/event/song-of-the-lakes/
LOCATION:Ironwood Theatre\, 113 E Aurora St\, Ironwood\, MI\, 49938\, United States
ATTACH;FMTTYPE=image/jpeg:https://www.michiganhumanities.org/wp-content/uploads/94314_event_md_345-2.jpg
END:VEVENT
END:VCALENDAR