BEGIN:VCALENDAR
VERSION:2.0
PRODID:-//Michigan Humanities - ECPv6.15.20//NONSGML v1.0//EN
CALSCALE:GREGORIAN
METHOD:PUBLISH
X-ORIGINAL-URL:https://www.michiganhumanities.org
X-WR-CALDESC:Events for Michigan Humanities
REFRESH-INTERVAL;VALUE=DURATION:PT1H
X-Robots-Tag:noindex
X-PUBLISHED-TTL:PT1H
BEGIN:VTIMEZONE
TZID:America/Detroit
BEGIN:DAYLIGHT
TZOFFSETFROM:-0500
TZOFFSETTO:-0400
TZNAME:EDT
DTSTART:20220313T070000
END:DAYLIGHT
BEGIN:STANDARD
TZOFFSETFROM:-0400
TZOFFSETTO:-0500
TZNAME:EST
DTSTART:20221106T060000
END:STANDARD
BEGIN:DAYLIGHT
TZOFFSETFROM:-0500
TZOFFSETTO:-0400
TZNAME:EDT
DTSTART:20230312T070000
END:DAYLIGHT
BEGIN:STANDARD
TZOFFSETFROM:-0400
TZOFFSETTO:-0500
TZNAME:EST
DTSTART:20231105T060000
END:STANDARD
BEGIN:DAYLIGHT
TZOFFSETFROM:-0500
TZOFFSETTO:-0400
TZNAME:EDT
DTSTART:20240310T070000
END:DAYLIGHT
BEGIN:STANDARD
TZOFFSETFROM:-0400
TZOFFSETTO:-0500
TZNAME:EST
DTSTART:20241103T060000
END:STANDARD
END:VTIMEZONE
BEGIN:VEVENT
DTSTART;TZID=America/Detroit:20230727T190000
DTEND;TZID=America/Detroit:20230727T200000
DTSTAMP:20260420T180656
CREATED:20230525T191123Z
LAST-MODIFIED:20230710T170605Z
UID:240761-1690484400-1690488000@www.michiganhumanities.org
SUMMARY:2023 Summer Reading Family Party - Drummunity
DESCRIPTION:Join the City of Clawson for a fun\, educational\, and interactive event for the whole family and a celebration of the reading accomplishments of the young readers in the Clawson community. The Summer Reading participants are preschool- through high school-aged from in and around Clawson\, Michigan. The City of Clawson has partnered with Lori Fithian to bring her amazing Drummunity drum circle program to the Clawson library for the end of summer reading event. \n\nFunding for this program was provided by Michigan Humanities –Arts and Humanities Touring Grant. Any views\, findings\, conclusions or recommendations expressed in this program do not necessarily represent those of Michigan Humanities or the aforementioned entities.
URL:https://www.michiganhumanities.org/event/2023-summer-reading-family-party-drummunity/
LOCATION:Hunter Community Center\, 509 Fisher Ct\, Clawson\, Michigan\, 48017
ATTACH;FMTTYPE=image/png:https://www.michiganhumanities.org/wp-content/uploads/teenread2023.png
END:VEVENT
END:VCALENDAR