BEGIN:VCALENDAR
VERSION:2.0
PRODID:-//Michigan Humanities - ECPv6.15.20//NONSGML v1.0//EN
CALSCALE:GREGORIAN
METHOD:PUBLISH
X-WR-CALNAME:Michigan Humanities
X-ORIGINAL-URL:https://www.michiganhumanities.org
X-WR-CALDESC:Events for Michigan Humanities
REFRESH-INTERVAL;VALUE=DURATION:PT1H
X-Robots-Tag:noindex
X-PUBLISHED-TTL:PT1H
BEGIN:VTIMEZONE
TZID:America/Detroit
BEGIN:DAYLIGHT
TZOFFSETFROM:-0500
TZOFFSETTO:-0400
TZNAME:EDT
DTSTART:20220313T070000
END:DAYLIGHT
BEGIN:STANDARD
TZOFFSETFROM:-0400
TZOFFSETTO:-0500
TZNAME:EST
DTSTART:20221106T060000
END:STANDARD
BEGIN:DAYLIGHT
TZOFFSETFROM:-0500
TZOFFSETTO:-0400
TZNAME:EDT
DTSTART:20230312T070000
END:DAYLIGHT
BEGIN:STANDARD
TZOFFSETFROM:-0400
TZOFFSETTO:-0500
TZNAME:EST
DTSTART:20231105T060000
END:STANDARD
BEGIN:DAYLIGHT
TZOFFSETFROM:-0500
TZOFFSETTO:-0400
TZNAME:EDT
DTSTART:20240310T070000
END:DAYLIGHT
BEGIN:STANDARD
TZOFFSETFROM:-0400
TZOFFSETTO:-0500
TZNAME:EST
DTSTART:20241103T060000
END:STANDARD
END:VTIMEZONE
BEGIN:VEVENT
DTSTART;TZID=America/Detroit:20230726T190000
DTEND;TZID=America/Detroit:20230726T210000
DTSTAMP:20260420T180432
CREATED:20230522T174538Z
LAST-MODIFIED:20230620T165829Z
UID:240692-1690398000-1690405200@www.michiganhumanities.org
SUMMARY:Traverse City Dance Project Performance
DESCRIPTION:The Garden Theater is excited to announce that they will be welcoming Traverse City Dance Project back to their stage for our Summer 2023 Season! They will be hosting a FREE dance performance showcasing some of the best talent in the country. TCDP is Northern Michigan’s only professional dance company. A bit about them\, “The mission of the Traverse City Dance Project is to produce and present professional dance in Northern Michigan and beyond. We seek to develop\, support & amplify the voice of the dance artist in our society. We commission new music for dance and use live music whenever possible. The TCDP is committed to expanding our reach to underserved audiences and ensuring that our programs are accessible and affordable to all.” \nFunding for this program was provided by Michigan Humanities – Arts and Humanities Touring Grant. Any views\, findings\, conclusions or recommendations expressed in this program do not necessarily represent those of Michigan Humanities or the aforementioned entities. \n\n\n\nhttps://youtu.be/S8Z63vQnd8U
URL:https://www.michiganhumanities.org/event/traverse-city-dance-project-performance/
LOCATION:The Garden Theater\, 301 Main St\, Frankfort\, MI\, 49635\, United States
ATTACH;FMTTYPE=image/jpeg:https://www.michiganhumanities.org/wp-content/uploads/TCDPTour-Frankfort-Instagram1080×1920px.jpg
END:VEVENT
BEGIN:VEVENT
DTSTART;TZID=America/Detroit:20230726T190000
DTEND;TZID=America/Detroit:20230726T210000
DTSTAMP:20260420T180433
CREATED:20230530T143354Z
LAST-MODIFIED:20230620T165351Z
UID:240782-1690398000-1690405200@www.michiganhumanities.org
SUMMARY:Pullman Square Summer Concert Series – Live Bait playing Jazz\, Blues and Originals
DESCRIPTION:Funding for this program was provided by Michigan Humanities –Arts and Humanities Touring Grant. Any views\, findings\, conclusions or recommendations expressed in this program do not necessarily represent those of Michigan Humanities or the aforementioned entities.
URL:https://www.michiganhumanities.org/event/pullman-square-summer-concert-series-live-bait-playing-jazz-blues-and-originals/
LOCATION:Pullman Town Square\, 5593 109th Ave\, Pullman\, Michigan\, 49450
ATTACH;FMTTYPE=image/jpeg:https://www.michiganhumanities.org/wp-content/uploads/CONCERT-POSTERS-INDIVIDUAL-_dragged__1_.jpg
END:VEVENT
END:VCALENDAR