BEGIN:VCALENDAR
VERSION:2.0
PRODID:-//Michigan Humanities - ECPv6.15.20//NONSGML v1.0//EN
CALSCALE:GREGORIAN
METHOD:PUBLISH
X-ORIGINAL-URL:https://www.michiganhumanities.org
X-WR-CALDESC:Events for Michigan Humanities
REFRESH-INTERVAL;VALUE=DURATION:PT1H
X-Robots-Tag:noindex
X-PUBLISHED-TTL:PT1H
BEGIN:VTIMEZONE
TZID:America/Detroit
BEGIN:DAYLIGHT
TZOFFSETFROM:-0500
TZOFFSETTO:-0400
TZNAME:EDT
DTSTART:20220313T070000
END:DAYLIGHT
BEGIN:STANDARD
TZOFFSETFROM:-0400
TZOFFSETTO:-0500
TZNAME:EST
DTSTART:20221106T060000
END:STANDARD
BEGIN:DAYLIGHT
TZOFFSETFROM:-0500
TZOFFSETTO:-0400
TZNAME:EDT
DTSTART:20230312T070000
END:DAYLIGHT
BEGIN:STANDARD
TZOFFSETFROM:-0400
TZOFFSETTO:-0500
TZNAME:EST
DTSTART:20231105T060000
END:STANDARD
BEGIN:DAYLIGHT
TZOFFSETFROM:-0500
TZOFFSETTO:-0400
TZNAME:EDT
DTSTART:20240310T070000
END:DAYLIGHT
BEGIN:STANDARD
TZOFFSETFROM:-0400
TZOFFSETTO:-0500
TZNAME:EST
DTSTART:20241103T060000
END:STANDARD
END:VTIMEZONE
BEGIN:VEVENT
DTSTART;TZID=America/Detroit:20230718T170000
DTEND;TZID=America/Detroit:20230718T180000
DTSTAMP:20260420T220951
CREATED:20230522T155416Z
LAST-MODIFIED:20230615T153529Z
UID:240675-1689699600-1689703200@www.michiganhumanities.org
SUMMARY:The Hungry\, Hungry Bookworm
DESCRIPTION:Presented by River City Puppets. The librarian is on the hunt for a story eating bookworm. Hilarious tales come to life as he strives to replace the stories before they’re all gone. Giant puppets\, music\, and masterful storytelling come together to delight both the audience and one hungry bookworm. \n\n\n\n\nFunding for this program was provided by Michigan Humanities – Arts and Humanities Touring Grant. Any views\, findings\, conclusions or recommendations expressed in this program do not necessarily represent those of Michigan Humanities or the aforementioned entities.
URL:https://www.michiganhumanities.org/event/the-hungry-hungry-bookworm/
LOCATION:Chesterfield Township Library\, 50560 Patricia Avenue\, Chesterfield\, MI\, 48051\, United States
ATTACH;FMTTYPE=image/jpeg:https://www.michiganhumanities.org/wp-content/uploads/d374b448bf668ab38aa4ee029f85f8e6_Hungry-bookworm.jpg
END:VEVENT
BEGIN:VEVENT
DTSTART;TZID=America/Detroit:20230718T173000
DTEND;TZID=America/Detroit:20230718T183000
DTSTAMP:20260420T220951
CREATED:20230531T153121Z
LAST-MODIFIED:20230601T145503Z
UID:240806-1689701400-1689705000@www.michiganhumanities.org
SUMMARY:Discover Falconry
DESCRIPTION:Learn about falconry from local\, Michael Evans\, and meet his hawk!\nSign up is recommended\, contact TRPL at 269-273-8666 or go to https://www.eventbrite.com/o/three-rivers-public-library-15891595896\n\n\nThis program is hosted by Three Rivers Public Library in partnership with the Smithsonian’s Spark! Places of Innovation exhibition. Any views\, findings\, conclusions\, or recommendations expressed in this program do not necessarily represent those of Michigan Humanities or the aforementioned entities.
URL:https://www.michiganhumanities.org/event/discover-falconry/
LOCATION:Three Rivers Public Library\, 88 N Main St\, Three Rivers\, Michigan\, 49093
END:VEVENT
BEGIN:VEVENT
DTSTART;TZID=America/Detroit:20230718T180000
DTEND;TZID=America/Detroit:20230718T200000
DTSTAMP:20260420T220951
CREATED:20230522T165826Z
LAST-MODIFIED:20230522T170206Z
UID:240682-1689703200-1689710400@www.michiganhumanities.org
SUMMARY:Allendale Township Summer Concert Series - Sunchaser
DESCRIPTION:Join Allendale Township for their annual summer concert series. They have lined up everything from classic rock\, children’s music\, rockabilly\, folk music and a little doo wop along with some amazing food trucks. Bring your lawn chairs or blankets and your appetites and get ready for a great time at the Allendale Community Park bandshell. \nFunding for this program was provided by Michigan Humanities – Arts and Humanities Touring Grant. Any views\, findings\, conclusions or recommendations expressed in this program do not necessarily represent those of Michigan Humanities or the aforementioned entities.
URL:https://www.michiganhumanities.org/event/allendale-township-summer-concert-series-sunchaser/
LOCATION:Allendale Community Park\, 11069 68th Ave\, Allendale\, MI\, 49401\, United States
END:VEVENT
END:VCALENDAR