BEGIN:VCALENDAR
VERSION:2.0
PRODID:-//Michigan Humanities - ECPv6.15.20//NONSGML v1.0//EN
CALSCALE:GREGORIAN
METHOD:PUBLISH
X-WR-CALNAME:Michigan Humanities
X-ORIGINAL-URL:https://www.michiganhumanities.org
X-WR-CALDESC:Events for Michigan Humanities
REFRESH-INTERVAL;VALUE=DURATION:PT1H
X-Robots-Tag:noindex
X-PUBLISHED-TTL:PT1H
BEGIN:VTIMEZONE
TZID:America/Detroit
BEGIN:DAYLIGHT
TZOFFSETFROM:-0500
TZOFFSETTO:-0400
TZNAME:EDT
DTSTART:20220313T070000
END:DAYLIGHT
BEGIN:STANDARD
TZOFFSETFROM:-0400
TZOFFSETTO:-0500
TZNAME:EST
DTSTART:20221106T060000
END:STANDARD
BEGIN:DAYLIGHT
TZOFFSETFROM:-0500
TZOFFSETTO:-0400
TZNAME:EDT
DTSTART:20230312T070000
END:DAYLIGHT
BEGIN:STANDARD
TZOFFSETFROM:-0400
TZOFFSETTO:-0500
TZNAME:EST
DTSTART:20231105T060000
END:STANDARD
BEGIN:DAYLIGHT
TZOFFSETFROM:-0500
TZOFFSETTO:-0400
TZNAME:EDT
DTSTART:20240310T070000
END:DAYLIGHT
BEGIN:STANDARD
TZOFFSETFROM:-0400
TZOFFSETTO:-0500
TZNAME:EST
DTSTART:20241103T060000
END:STANDARD
END:VTIMEZONE
BEGIN:VEVENT
DTSTART;TZID=America/Detroit:20230711T173000
DTEND;TZID=America/Detroit:20230711T183000
DTSTAMP:20260420T150824
CREATED:20230531T152839Z
LAST-MODIFIED:20230531T152839Z
UID:240803-1689096600-1689100200@www.michiganhumanities.org
SUMMARY:Suds and Civilization
DESCRIPTION:Join Three Rivers Public Library for a social history of beer\, wine\, and spirits by Dr. Thomas Henthorn. Discover the history behind your beer\, wine\, and distilled spirits while you try a 10 oz. cream ale! *Sign up is required due to limited space. Contact TRPL at 269-273-8666 or go to https://www.eventbrite.com/o/three-rivers-public-library-15891595896 to sign up!
URL:https://www.michiganhumanities.org/event/suds-and-civilization/
LOCATION:Useless Creatures Brewing Company\, 41 N Main St\, Three Rivers\, Michigan\, 49093
END:VEVENT
BEGIN:VEVENT
DTSTART;TZID=America/Detroit:20230711T180000
DTEND;TZID=America/Detroit:20230711T200000
DTSTAMP:20260420T150824
CREATED:20230522T170154Z
LAST-MODIFIED:20230522T170202Z
UID:240686-1689098400-1689105600@www.michiganhumanities.org
SUMMARY:Allendale Township Summer Concert Series - Neil Woodward
DESCRIPTION:Join Allendale Township for their annual summer concert series. They have lined up everything from classic rock\, children’s music\, rockabilly\, folk music and a little doo wop along with some amazing food trucks. Bring your lawn chairs or blankets and your appetites and get ready for a great time at the Allendale Community Park bandshell. \nFunding for this program was provided by Michigan Humanities – Arts and Humanities Touring Grant. Any views\, findings\, conclusions or recommendations expressed in this program do not necessarily represent those of Michigan Humanities or the aforementioned entities.
URL:https://www.michiganhumanities.org/event/allendale-township-summer-concert-series-neil-woodward/
LOCATION:Allendale Community Park\, 11069 68th Ave\, Allendale\, MI\, 49401\, United States
END:VEVENT
END:VCALENDAR