BEGIN:VCALENDAR
VERSION:2.0
PRODID:-//Michigan Humanities - ECPv6.15.20//NONSGML v1.0//EN
CALSCALE:GREGORIAN
METHOD:PUBLISH
X-WR-CALNAME:Michigan Humanities
X-ORIGINAL-URL:https://www.michiganhumanities.org
X-WR-CALDESC:Events for Michigan Humanities
REFRESH-INTERVAL;VALUE=DURATION:PT1H
X-Robots-Tag:noindex
X-PUBLISHED-TTL:PT1H
BEGIN:VTIMEZONE
TZID:America/Detroit
BEGIN:DAYLIGHT
TZOFFSETFROM:-0500
TZOFFSETTO:-0400
TZNAME:EDT
DTSTART:20240310T070000
END:DAYLIGHT
BEGIN:STANDARD
TZOFFSETFROM:-0400
TZOFFSETTO:-0500
TZNAME:EST
DTSTART:20241103T060000
END:STANDARD
BEGIN:DAYLIGHT
TZOFFSETFROM:-0500
TZOFFSETTO:-0400
TZNAME:EDT
DTSTART:20250309T070000
END:DAYLIGHT
BEGIN:STANDARD
TZOFFSETFROM:-0400
TZOFFSETTO:-0500
TZNAME:EST
DTSTART:20251102T060000
END:STANDARD
BEGIN:DAYLIGHT
TZOFFSETFROM:-0500
TZOFFSETTO:-0400
TZNAME:EDT
DTSTART:20260308T070000
END:DAYLIGHT
BEGIN:STANDARD
TZOFFSETFROM:-0400
TZOFFSETTO:-0500
TZNAME:EST
DTSTART:20261101T060000
END:STANDARD
END:VTIMEZONE
BEGIN:VEVENT
DTSTART;TZID=America/Detroit:20250128T130000
DTEND;TZID=America/Detroit:20250128T143000
DTSTAMP:20260420T003705
CREATED:20250122T130631Z
LAST-MODIFIED:20250122T155614Z
UID:243622-1738069200-1738074600@www.michiganhumanities.org
SUMMARY:Virtual Workshop: Michigan Humanities Grants & Programs
DESCRIPTION:Join Michigan Humanities for a virtual workshop on January 28\, 1–2:30 p.m. \nIn this workshop\, staff will provide an overview of current and upcoming grants and programs\, show attendees how to register for the online portal and begin an application\, share experiences from previous grant and program partners\, and leave time for a Q&A. If you’d like to join\, please register online. \nThe workshop will be recorded; please register if you’d like to receive the recording\, even if you’re unable to attend live.
URL:https://www.michiganhumanities.org/event/virtual-workshop-michigan-humanities-grants-programs/
ATTACH;FMTTYPE=image/jpeg:https://www.michiganhumanities.org/wp-content/uploads/Copy-of-Michigan-Humanities-Grants-Programs-Virtual-Workshop-1-scaled.jpg
END:VEVENT
END:VCALENDAR