BEGIN:VCALENDAR
VERSION:2.0
PRODID:-//Michigan Humanities - ECPv6.15.20//NONSGML v1.0//EN
CALSCALE:GREGORIAN
METHOD:PUBLISH
X-WR-CALNAME:Michigan Humanities
X-ORIGINAL-URL:https://www.michiganhumanities.org
X-WR-CALDESC:Events for Michigan Humanities
REFRESH-INTERVAL;VALUE=DURATION:PT1H
X-Robots-Tag:noindex
X-PUBLISHED-TTL:PT1H
BEGIN:VTIMEZONE
TZID:America/Detroit
BEGIN:DAYLIGHT
TZOFFSETFROM:-0500
TZOFFSETTO:-0400
TZNAME:EDT
DTSTART:20240310T070000
END:DAYLIGHT
BEGIN:STANDARD
TZOFFSETFROM:-0400
TZOFFSETTO:-0500
TZNAME:EST
DTSTART:20241103T060000
END:STANDARD
BEGIN:DAYLIGHT
TZOFFSETFROM:-0500
TZOFFSETTO:-0400
TZNAME:EDT
DTSTART:20250309T070000
END:DAYLIGHT
BEGIN:STANDARD
TZOFFSETFROM:-0400
TZOFFSETTO:-0500
TZNAME:EST
DTSTART:20251102T060000
END:STANDARD
BEGIN:DAYLIGHT
TZOFFSETFROM:-0500
TZOFFSETTO:-0400
TZNAME:EDT
DTSTART:20260308T070000
END:DAYLIGHT
BEGIN:STANDARD
TZOFFSETFROM:-0400
TZOFFSETTO:-0500
TZNAME:EST
DTSTART:20261101T060000
END:STANDARD
END:VTIMEZONE
BEGIN:VEVENT
DTSTART;TZID=America/Detroit:20250312T190000
DTEND;TZID=America/Detroit:20250312T210000
DTSTAMP:20260419T211439
CREATED:20250121T140015Z
LAST-MODIFIED:20250121T140015Z
UID:243609-1741806000-1741813200@www.michiganhumanities.org
SUMMARY:Oakland University: “For Internal Reference Only”: Foreign Literature and Book Censorship in the People’s Republic of China\, 1960-76
DESCRIPTION:Join us as speaker Yan Li (Oakland University) for The John and Annette Carter History Comes Alive Lecture Series presents “For Internal Reference Only”: Foreign Literature and Book Censorship in the People’s Republic of China\, 1960-76.
URL:https://www.michiganhumanities.org/event/oakland-university-for-internal-reference-only-foreign-literature-and-book-censorship-in-the-peoples-republic-of-china-1960-76/
LOCATION:Banquet Room A\, Oakland Center\, Oakland University\, 312 Meadow Brook Rd.\, Rochester\, MI\, 48309\, United States
END:VEVENT
END:VCALENDAR