BEGIN:VCALENDAR
VERSION:2.0
PRODID:-//Michigan Humanities - ECPv6.15.20//NONSGML v1.0//EN
CALSCALE:GREGORIAN
METHOD:PUBLISH
X-WR-CALNAME:Michigan Humanities
X-ORIGINAL-URL:https://www.michiganhumanities.org
X-WR-CALDESC:Events for Michigan Humanities
REFRESH-INTERVAL;VALUE=DURATION:PT1H
X-Robots-Tag:noindex
X-PUBLISHED-TTL:PT1H
BEGIN:VTIMEZONE
TZID:America/Detroit
BEGIN:DAYLIGHT
TZOFFSETFROM:-0500
TZOFFSETTO:-0400
TZNAME:EDT
DTSTART:20240310T070000
END:DAYLIGHT
BEGIN:STANDARD
TZOFFSETFROM:-0400
TZOFFSETTO:-0500
TZNAME:EST
DTSTART:20241103T060000
END:STANDARD
BEGIN:DAYLIGHT
TZOFFSETFROM:-0500
TZOFFSETTO:-0400
TZNAME:EDT
DTSTART:20250309T070000
END:DAYLIGHT
BEGIN:STANDARD
TZOFFSETFROM:-0400
TZOFFSETTO:-0500
TZNAME:EST
DTSTART:20251102T060000
END:STANDARD
BEGIN:DAYLIGHT
TZOFFSETFROM:-0500
TZOFFSETTO:-0400
TZNAME:EDT
DTSTART:20260308T070000
END:DAYLIGHT
BEGIN:STANDARD
TZOFFSETFROM:-0400
TZOFFSETTO:-0500
TZNAME:EST
DTSTART:20261101T060000
END:STANDARD
END:VTIMEZONE
BEGIN:VEVENT
DTSTART;TZID=America/Detroit:20250410T120000
DTEND;TZID=America/Detroit:20250410T130000
DTSTAMP:20260424T204339
CREATED:20250401T144934Z
LAST-MODIFIED:20250401T145107Z
UID:243927-1744286400-1744290000@www.michiganhumanities.org
SUMMARY:Free Noon and Night Concert Series Featuring Hot Sun Trio
DESCRIPTION:The Hot Sun Trio (Quarteto Sol Caliente) is a World jazz ensemble formed in 2000 and primarily consists of two flamenco guitars\, congas/various percussion and a stand-up bass. Their music ranges from Swing and Latin Jazz to Brazilian Samba\, Salsa and Flamenco. They cover the musical globe drawing inspiration from all cultures. Performances are scheduled from noon to 1 p.m. and 7 p.m. to 8:30 p.m. in the SC4 Fine Arts Theatre. Seats are general admission\, and no reservations are needed. Doors open 15 minutes prior to showtime. \nThis event is partially funded by an Arts and Humanities Touring Grant.
URL:https://www.michiganhumanities.org/event/free-noon-and-night-concert-series-featuring-hot-sun-trio/
LOCATION:SC4 Fine Arts Theatre\, 601 Erie St\, Port Huron\, Michigan\, 48060
ATTACH;FMTTYPE=image/jpeg:https://www.michiganhumanities.org/wp-content/uploads/486610460_1087617793411968_7065844831265200104_n.jpg
END:VEVENT
END:VCALENDAR