BEGIN:VCALENDAR
VERSION:2.0
PRODID:-//Michigan Humanities - ECPv6.15.20//NONSGML v1.0//EN
CALSCALE:GREGORIAN
METHOD:PUBLISH
X-WR-CALNAME:Michigan Humanities
X-ORIGINAL-URL:https://www.michiganhumanities.org
X-WR-CALDESC:Events for Michigan Humanities
REFRESH-INTERVAL;VALUE=DURATION:PT1H
X-Robots-Tag:noindex
X-PUBLISHED-TTL:PT1H
BEGIN:VTIMEZONE
TZID:America/Detroit
BEGIN:DAYLIGHT
TZOFFSETFROM:-0500
TZOFFSETTO:-0400
TZNAME:EDT
DTSTART:20240310T070000
END:DAYLIGHT
BEGIN:STANDARD
TZOFFSETFROM:-0400
TZOFFSETTO:-0500
TZNAME:EST
DTSTART:20241103T060000
END:STANDARD
BEGIN:DAYLIGHT
TZOFFSETFROM:-0500
TZOFFSETTO:-0400
TZNAME:EDT
DTSTART:20250309T070000
END:DAYLIGHT
BEGIN:STANDARD
TZOFFSETFROM:-0400
TZOFFSETTO:-0500
TZNAME:EST
DTSTART:20251102T060000
END:STANDARD
BEGIN:DAYLIGHT
TZOFFSETFROM:-0500
TZOFFSETTO:-0400
TZNAME:EDT
DTSTART:20260308T070000
END:DAYLIGHT
BEGIN:STANDARD
TZOFFSETFROM:-0400
TZOFFSETTO:-0500
TZNAME:EST
DTSTART:20261101T060000
END:STANDARD
END:VTIMEZONE
BEGIN:VEVENT
DTSTART;TZID=America/Detroit:20250504T140000
DTEND;TZID=America/Detroit:20250504T150000
DTSTAMP:20260425T100233
CREATED:20250417T172047Z
LAST-MODIFIED:20250417T172100Z
UID:244180-1746367200-1746370800@www.michiganhumanities.org
SUMMARY:Compañeros de Flamenco
DESCRIPTION:Library events are always free to the public and you do not need a library card to attend! The Farmington Community Library has two locations. This event will be held in the Auditorium at the FCL Farmington Hills location at 32737 W. 12 Mile Rd.\, Farmington Hills\, MI 48334. Registration Required. \nJoin FCL as we host Compañeros de Flamenco. Compañeros de Flamenco is a group of dancers and musicians that perform the lively music and dance of Spain\, known as Flamenco. It is a musical style with a rich and diverse history. The individual members of the group bring a broad range of experience in different styles of music and dance from classical to folk dance. During the program you will be able to listen to a lecture about the multi-cultural influences on the Spanish art of Flamenco. There will also be opportunities for the audience to participate in the program while seated and standing! \nThis event is partially funded by an Arts and Humanities Touring Grant.
URL:https://www.michiganhumanities.org/event/companeros-de-flamenco/
LOCATION:Farmington Community Library\, 32737 W. 12 Mile Rd.\, Farmington Hills\, MI\, 48334\, United States
ATTACH;FMTTYPE=image/jpeg:https://www.michiganhumanities.org/wp-content/uploads/491830132_1120123046821504_3456730652437750610_n.jpg
END:VEVENT
END:VCALENDAR